Felt | Verdi |
AlreadyApplied | True |
Aperture | 8.0 |
ApertureValue | 8.0 |
Artist | @OLE BENDIKSEN |
AutoLateralCA | 0 |
BitsPerSample | 8 |
Blacks2012 | +26 |
BlueHue | 0 |
BlueSaturation | 0 |
By-line | @OLE BENDIKSEN |
CameraProfile | Adobe Standard |
CircleOfConfusion | 0.019 mm |
Clarity2012 | +100 |
ColorComponents | 3 |
ColorMode | RGB |
ColorNoiseReduction | 25 |
ColorNoiseReductionDetail | 50 |
ColorSpace | Uncalibrated |
ColorTemperature | 5850 |
ColorTransform | YCbCr |
Contrast2012 | -25 |
ConvertToGrayscale | False |
CreateDate | 2014:10:05 18:26:44 |
Creator | @OLE BENDIKSEN |
CustomRendered | Normal |
DateCreated (1) | 2014:10:05 |
DateCreated | 2014:10:05 18:26:44.051 |
DateTimeOriginal | 2014:10:05 18:26:44 |
DefringeGreenAmount | 0 |
DefringeGreenHueHi | 60 |
DefringeGreenHueLo | 40 |
DefringePurpleAmount | 0 |
DefringePurpleHueHi | 70 |
DefringePurpleHueLo | 30 |
ExifImageHeight | 3456 |
ExifImageWidth | 5184 |
Exposure2012 | +0.85 |
ExposureCompensation | 0 |
ExposureMode | Manual |
ExposureProgram | Manual |
ExposureTime | 8 |
Firmware | 1.0.9 |
Flash | Off, Did not fire |
FlashCompensation | 0 |
FNumber | 8.0 |
FocalLength | 18.0 mm |
FocalLength35efl | 18.0 mm (35 mm equivalent: 28.3 mm) |
Format | image/jpeg |
FOV | 64.9 deg |
GrainAmount | 0 |
GreenHue | 0 |
GreenSaturation | 0 |
HasCrop | False |
HasSettings | True |
Highlights2012 | -5 |
HueAdjustmentAqua | 0 |
HueAdjustmentBlue | 0 |
HueAdjustmentGreen | 0 |
HueAdjustmentMagenta | 0 |
HueAdjustmentOrange | 0 |
HueAdjustmentPurple | 0 |
HueAdjustmentRed | 0 |
HueAdjustmentYellow | 0 |
HyperfocalDistance | 2.12 m |
ICCProfileName | Adobe RGB (1998) |
ImageHeight | 3456 |
ImageNumber | 0 |
ImageSize | 5184x3456 |
ImageWidth | 5184 |
ISO | 100 |
Lens | 18-200mm |
LensID (1) | 153 |
LensID | Tamron AF 18-200mm f/3.5-6.3 XR Di II LD Aspherical [IF] Macro (A14) |
LensInfo | 18-200mm f/? |
LensManualDistortionAmount | 0 |
LensModel | 18-200mm |
LensProfileChromaticAberrationScale | 100 |
LensProfileDistortionScale | 100 |
LensProfileEnable | 1 |
LensProfileFilename | Canon (TAMRON 18-200mm F3.5-6.3 DiII A14E) - RAW.lcp |
LensProfileName | Adobe (TAMRON 18-200mm F/3.5-6.3 DiII A14E, Canon) |
LensProfileSetup | LensDefaults |
LensProfileVignettingScale | 100 |
LightValue | 3.0 |
LuminanceAdjustmentAqua | 0 |
LuminanceAdjustmentBlue | 0 |
LuminanceAdjustmentGreen | 0 |
LuminanceAdjustmentMagenta | 0 |
LuminanceAdjustmentOrange | 0 |
LuminanceAdjustmentPurple | 0 |
LuminanceAdjustmentRed | 0 |
LuminanceAdjustmentYellow | 0 |
LuminanceNoiseReductionContrast | 0 |
LuminanceNoiseReductionDetail | 50 |
LuminanceSmoothing | 11 |
Make | Canon |
MaxApertureValue | 3.5 |
Megapixels | 17.9 |
MeteringMode | Multi-segment |
Model | Canon EOS 550D |
ModifyDate (1) | 2014:10:07 00:22:58+02:00 |
ModifyDate | 2014:10:07 00:22:58 |
Orientation | Horizontal (normal) |
ParametricDarks | 0 |
ParametricHighlights | 0 |
ParametricHighlightSplit | 75 |
ParametricLights | 0 |
ParametricMidtoneSplit | 50 |
ParametricShadows | 0 |
ParametricShadowSplit | 25 |
PerspectiveAspect | 0 |
PerspectiveHorizontal | 0 |
PerspectiveRotate | 0.0 |
PerspectiveScale | 100 |
PerspectiveUpright | 1 |
PerspectiveVertical | 0 |
PostCropVignetteAmount | 0 |
ProcessVersion | 6.7 |
ProfileDescription | Adobe RGB (1998) |
Rating | 0 |
RawFileName | 146.CR2 |
RedHue | 0 |
RedSaturation | 0 |
Saturation | +5 |
SaturationAdjustmentAqua | 0 |
SaturationAdjustmentBlue | 0 |
SaturationAdjustmentGreen | 0 |
SaturationAdjustmentMagenta | 0 |
SaturationAdjustmentOrange | 0 |
SaturationAdjustmentPurple | 0 |
SaturationAdjustmentRed | 0 |
SaturationAdjustmentYellow | 0 |
ScaleFactor35efl | 1.6 |
SceneCaptureType | Standard |
SerialNumber | 1533941147 |
Shadows2012 | +5 |
ShadowTint | 0 |
SharpenDetail | 25 |
SharpenEdgeMasking | 0 |
SharpenRadius | +1.0 |
Sharpness | 121 |
ShutterSpeed | 8 |
ShutterSpeedValue | 8 |
Software | Adobe Photoshop CC 2014 (Windows) |
SplitToningBalance | 0 |
SplitToningHighlightHue | 0 |
SplitToningHighlightSaturation | 0 |
SplitToningShadowHue | 0 |
SplitToningShadowSaturation | 0 |
Tint | -6 |
ToneCurveName2012 | Linear |
ToneCurvePV2012 | 0, 0, 255, 255 |
ToneCurvePV2012Blue | 0, 0, 255, 255 |
ToneCurvePV2012Green | 0, 0, 255, 255 |
ToneCurvePV2012Red | 0, 0, 255, 255 |
URL_List | |
Version | 8.0 |
Vibrance | +5 |
VignetteAmount | 0 |
WhiteBalance (1) | As Shot |
WhiteBalance | Auto |
Whites2012 | 0 |