Felt | Verdi |
AlreadyApplied | True |
AutoLateralCA | 0 |
AutoWhiteVersion | 134348800 |
BitsPerSample | 8 |
BlackClip | 0.276421 |
Blacks2012 | 0 |
BlueHue | 0 |
BlueSaturation | 0 |
CameraProfile | Embedded |
Clarity2012 | +7 |
ColorComponents | 3 |
ColorNoiseReduction | 0 |
ColorSaturation | 74.0 |
ColorTemperature | -10.0 |
ColorTransform | YCbCr |
Contrast2012 | +14 |
ConvertToGrayscale | False |
CreateDate | 2014:06:26 12:23:58 |
CreatorTool | Adobe Photoshop Lightroom 5.3 (Windows) |
DateCreated (1) | 2014:06:26 |
DateCreated | 2014:06:26 12:23:58 |
DateTimeOriginal | 2014:06:26 12:23:58 |
DefringeGreenAmount | 0 |
DefringeGreenHueHi | 60 |
DefringeGreenHueLo | 40 |
DefringePurpleAmount | 0 |
DefringePurpleHueHi | 70 |
DefringePurpleHueLo | 30 |
Exposure2012 | 0.00 |
Format | image/jpeg |
Gamma | 1.00 |
GrainAmount | 0 |
GreenHue | 0 |
GreenSaturation | 0 |
HasCrop | False |
HasExtendedXMP | 3C4237E0C773063FEF824A980DC4937A |
HasSettings | True |
Highlights2012 | -14 |
HighlightsSmoothing | 70.0 |
HueAdjustmentAqua | 0 |
HueAdjustmentBlue | 0 |
HueAdjustmentGreen | 0 |
HueAdjustmentMagenta | 0 |
HueAdjustmentOrange | 0 |
HueAdjustmentPurple | 0 |
HueAdjustmentRed | 0 |
HueAdjustmentYellow | 0 |
ImageHeight | 3137 |
ImageSize | 5639x3137 |
ImageWidth | 5639 |
IncrementalTemperature | 0 |
IncrementalTint | 0 |
IsPano360 | No |
Lens | EF16-35mm f/2.8L II USM |
LensManualDistortionAmount | 0 |
LensModel | EF16-35mm f/2.8L II USM |
LensProfileEnable | 0 |
LensProfileSetup | LensDefaults |
LuminanceAdjustmentAqua | 0 |
LuminanceAdjustmentBlue | 0 |
LuminanceAdjustmentGreen | 0 |
LuminanceAdjustmentMagenta | 0 |
LuminanceAdjustmentOrange | 0 |
LuminanceAdjustmentPurple | 0 |
LuminanceAdjustmentRed | 0 |
LuminanceAdjustmentYellow | 0 |
LuminanceSmoothing | 0 |
Luminosity | 8.0 |
Make | Canon |
Megapixels | 17.7 |
Method | Details Enhancer |
Microcontrast | 7.0 |
Microsmoothing | 3.0 |
Model | Canon EOS 5D Mark II |
ModifyDate (1) | 2015:03:30 20:36:50+02:00 |
ModifyDate | 2015:03:30 20:36:50 |
PaintCorrectionActive | true |
PaintCorrectionAmount | 1.000000 |
PaintCorrectionBrightness | 0.000000 |
PaintCorrectionClarity2012 (1) | 0.333330 |
PaintCorrectionClarity2012 (2) | 0.218390 |
PaintCorrectionClarity2012 (4) | 0.000000 |
PaintCorrectionClarity2012 | 0.264370 |
PaintCorrectionContrast2012 (1) | 0.034480 |
PaintCorrectionContrast2012 (2) | 0.287360 |
PaintCorrectionContrast2012 | 0.000000 |
PaintCorrectionDefringe | 0.000000 |
PaintCorrectionExposure2012 (3) | -0.034500 |
PaintCorrectionExposure2012 (4) | 0.034500 |
PaintCorrectionExposure2012 | 0.000000 |
PaintCorrectionHighlights2012 | 0.000000 |
PaintCorrectionHue | 209.000000 |
PaintCorrectionLuminanceNoise | 0.000000 |
PaintCorrectionMaskCenterWeight | 0.000000 |
PaintCorrectionMaskFlow (10) | 0.658940 |
PaintCorrectionMaskFlow (11) | 0.749074 |
PaintCorrectionMaskFlow (12) | 0.597294 |
PaintCorrectionMaskFlow (13) | 0.896203 |
PaintCorrectionMaskFlow (14) | 0.052239 |
PaintCorrectionMaskFlow (15) | 0.775895 |
PaintCorrectionMaskFlow (16) | 0.299928 |
PaintCorrectionMaskFlow (18) | 0.571149 |
PaintCorrectionMaskFlow (19) | 0.059314 |
PaintCorrectionMaskFlow (2) | 1.000000 |
PaintCorrectionMaskFlow (20) | 0.853465 |
PaintCorrectionMaskFlow (21) | 0.007944 |
PaintCorrectionMaskFlow (22) | 0.137575 |
PaintCorrectionMaskFlow (23) | 0.512931 |
PaintCorrectionMaskFlow (27) | 0.863158 |
PaintCorrectionMaskFlow (28) | 0.873531 |
PaintCorrectionMaskFlow (29) | 0.885563 |
PaintCorrectionMaskFlow (3) | 0.609489 |
PaintCorrectionMaskFlow (30) | 0.755467 |
PaintCorrectionMaskFlow (31) | 0.921387 |
PaintCorrectionMaskFlow (32) | 0.738589 |
PaintCorrectionMaskFlow (33) | 0.627589 |
PaintCorrectionMaskFlow (34) | 0.872660 |
PaintCorrectionMaskFlow (35) | 0.384166 |
PaintCorrectionMaskFlow (36) | 0.909960 |
PaintCorrectionMaskFlow (37) | 0.230889 |
PaintCorrectionMaskFlow (38) | 0.582655 |
PaintCorrectionMaskFlow (39) | 0.464306 |
PaintCorrectionMaskFlow (4) | 0.651827 |
PaintCorrectionMaskFlow (40) | 0.913793 |
PaintCorrectionMaskFlow (41) | 0.732632 |
PaintCorrectionMaskFlow (42) | 0.929860 |
PaintCorrectionMaskFlow (43) | 0.861746 |
PaintCorrectionMaskFlow (44) | 0.555053 |
PaintCorrectionMaskFlow (5) | 0.259819 |
PaintCorrectionMaskFlow (6) | 0.377210 |
PaintCorrectionMaskFlow (7) | 0.312500 |
PaintCorrectionMaskFlow (8) | 0.172614 |
PaintCorrectionMaskFlow (9) | 0.286969 |
PaintCorrectionMaskFlow | 0.673887 |
PaintCorrectionMaskRadius (12) | 0.012804 |
PaintCorrectionMaskRadius (2) | 0.041399 |
PaintCorrectionMaskRadius (3) | 0.029646 |
PaintCorrectionMaskRadius (5) | 0.018313 |
PaintCorrectionMaskRadius (9) | 0.007400 |
PaintCorrectionMaskRadius | 0.023927 |
PaintCorrectionMaskValue | 1.000000 |
PaintCorrectionMaskWhat | Mask/Paint |
PaintCorrectionMoire | 0.000000 |
PaintCorrectionSaturation (1) | 0.080460 |
PaintCorrectionSaturation | 0.000000 |
PaintCorrectionShadows2012 | 0.000000 |
PaintCorrectionSharpness | 0.000000 |
PaintCorrectionTemperature | 0.000000 |
PaintCorrectionTint | 0.000000 |
PaintCorrectionWhat | Correction |
ParametricDarks | 0 |
ParametricHighlights | 0 |
ParametricHighlightSplit | 75 |
ParametricLights | 0 |
ParametricMidtoneSplit | 50 |
ParametricShadows | 0 |
ParametricShadowSplit | 25 |
PerspectiveAspect | 0 |
PerspectiveHorizontal | 0 |
PerspectiveRotate | 0.0 |
PerspectiveScale | 100 |
PerspectiveUpright | 0 |
PerspectiveVertical | 0 |
PostCropVignetteAmount | 0 |
ProcessVersion | 6.7 |
ProfileDescription | sRGB IEC61966-2.1 |
RedHue | 0 |
RedSaturation | 0 |
Saturation | 0 |
SaturationAdjustmentAqua | 0 |
SaturationAdjustmentBlue | 0 |
SaturationAdjustmentGreen | 0 |
SaturationAdjustmentMagenta | 0 |
SaturationAdjustmentOrange | 0 |
SaturationAdjustmentPurple | 0 |
SaturationAdjustmentRed | 0 |
SaturationAdjustmentYellow | 0 |
SaturationHighlights | 0.0 |
SaturationShadows | 0.0 |
Shadows2012 | 0 |
ShadowsClipping | 0.0 |
ShadowsSmoothing | 0.0 |
ShadowTint | 0 |
SharpenDetail | 25 |
SharpenEdgeMasking | 0 |
SharpenRadius | +1.0 |
Sharpness | 30 |
Smoothing | 0.0 |
SmoothingMode | Slider |
Software | Adobe Photoshop Lightroom 5.3 (Windows) |
SplitToningBalance | 0 |
SplitToningHighlightHue | 0 |
SplitToningHighlightSaturation | 0 |
SplitToningShadowHue | 0 |
SplitToningShadowSaturation | 0 |
Strength | 100.0 |
ToneCurveName2012 | Linear |
ToneCurvePV2012 | 0, 0, 255, 255 |
ToneCurvePV2012Blue | 0, 0, 255, 255 |
ToneCurvePV2012Green | 0, 0, 255, 255 |
ToneCurvePV2012Red | 0, 0, 255, 255 |
Version (1) | 5.0 |
Version | 8.3 |
Vibrance | 0 |
VignetteAmount | 0 |
WhiteBalance | As Shot |
WhiteClip | 0.011558 |
Whites2012 | 0 |