Felt | Verdi |
AlreadyApplied | True |
BitsPerSample | 8 |
BlueHue | 0 |
BlueSaturation | 0 |
Brightness | +51 |
CameraProfile | ACR 3.7 |
CFAPattern | [Red,Green][Green,Blue] |
ChromaticAberrationB | 0 |
ChromaticAberrationR | 0 |
CircleOfConfusion | 0.020 mm |
City | Eid |
ColorComponents | 3 |
ColorNoiseReduction | 25 |
ColorTemperature | 5200 |
Contrast (2) | +25 |
Contrast | Normal |
ConvertToGrayscale | False |
Country | Norge |
Country-PrimaryLocationName | Norge |
CreateDate | 2007:04:16 18:10:26 |
CreatorTool | Adobe Photoshop Lightroom |
CropAngle | 0 |
CropBottom | 0.919936 |
CropHeight | 502 |
CropLeft | 0 |
CropRight | 0.778589 |
CropTop | 0.141347 |
CropUnit | pixels |
CropWidth | 750 |
CustomRendered | Normal |
DateCreated | |
DateTimeDigitized | 2007:04:16 18:10:26+02:00 |
DateTimeOriginal (1) | 2007:04:16 18:10:26+02:00 |
DateTimeOriginal | 2007:04:16 18:10:26 |
Exposure | -0.71 |
ExposureCompensation | 0 |
ExposureMode | Manual |
ExposureProgram | Manual |
ExposureTime | 1/250 |
FillLight | 15 |
Flash | Off, Did not fire |
FlashFired | False |
FlashFunction | False |
FlashMode | Off |
FlashRedEyeMode | False |
FlashReturn | No return detection |
FocalLength | 500.0 mm |
FocalLength35efl | 500.0 mm (35 mm equivalent: 750.0 mm) |
FocalLengthIn35mmFormat | 750 mm |
FOV | 2.7 deg |
GreenHue | 0 |
GreenSaturation | 0 |
HasCrop | True |
HasSettings | True |
HighlightRecovery | 24 |
HueAdjustmentAqua | 0 |
HueAdjustmentBlue | 0 |
HueAdjustmentGreen | 0 |
HueAdjustmentMagenta | 0 |
HueAdjustmentOrange | 0 |
HueAdjustmentPurple | 0 |
HueAdjustmentRed | 0 |
HueAdjustmentYellow | 0 |
ImageHeight | 502 |
ImageSize | 750x502 |
ImageWidth | 750 |
ISO | 800 |
Keywords | Fugler, Gråhegre, Storkefugler |
Label | Red |
Lens | K,M Lens |
LensID (1) | 1 0 |
LensID | K or M Lens |
LuminanceAdjustmentAqua | 0 |
LuminanceAdjustmentBlue | 0 |
LuminanceAdjustmentGreen | 0 |
LuminanceAdjustmentMagenta | 0 |
LuminanceAdjustmentOrange | 0 |
LuminanceAdjustmentPurple | 0 |
LuminanceAdjustmentRed | 0 |
LuminanceAdjustmentYellow | 0 |
LuminanceSmoothing | 0 |
Make | PENTAX Corporation |
Megapixels | 0.377 |
MeteringMode | Center-weighted average |
Model | PENTAX K10D |
ModifyDate (1) | 2007:04:26 19:04:31+02:00 |
ModifyDate | 2007:04:26 19:04:31 |
ParametricDarks | 0 |
ParametricHighlights | 0 |
ParametricHighlightSplit | 75 |
ParametricLights | 0 |
ParametricMidtoneSplit | 50 |
ParametricShadows | 0 |
ParametricShadowSplit | 25 |
PrivateRTKInfo | cHJpdmF0ZVJUS0luZm8gPSB7Cgl7CgkJZmxhdCA9IHsKCQkJIkdyw6VoZWdyZSIsCgkJCSJTdG9ya2VmdWdsZXIiLAoJCQkiRnVnbGVyIiwKCQl9LAoJCXBhdGggPSB7CgkJCSJGdWdsZXIiLAoJCQkiU3RvcmtlZnVnbGVyIiwKCQkJIkdyw6VoZWdyZSIsCgkJfSwKCQlwcmltYXJ5ID0gIkdyw6VoZWdyZSIsCgkJdXVpZCA9ICJDQTRERjU4Ny05NEU3LTRDQTctOEZGNS05OTgzRThENTNDNUYiLAoJfSwKfQo= |
ProfileDescription | sRGB IEC61966-2.1 |
Province-State | Sogn og Fjordane |
RedHue | 0 |
RedSaturation | 0 |
Saturation (2) | 0 |
Saturation | Normal |
SaturationAdjustmentAqua | 0 |
SaturationAdjustmentBlue | 0 |
SaturationAdjustmentGreen | 0 |
SaturationAdjustmentMagenta | 0 |
SaturationAdjustmentOrange | 0 |
SaturationAdjustmentPurple | 0 |
SaturationAdjustmentRed | 0 |
SaturationAdjustmentYellow | 0 |
ScaleFactor35efl | 1.5 |
SceneCaptureType | Standard |
SensingMethod | One-chip color area |
Shadows | 18 |
ShadowTint | 0 |
Sharpness (2) | 73 |
Sharpness | Normal |
ShutterSpeed | 1/250 |
ShutterSpeedValue | 1/250 |
Software | K10D Ver 1.11 |
SplitToningBalance | 0 |
SplitToningHighlightHue | 0 |
SplitToningHighlightSaturation | 0 |
SplitToningShadowHue | 0 |
SplitToningShadowSaturation | 0 |
State | Sogn og Fjordane |
Subject | Fugler, Gråhegre, Storkefugler |
SubjectDistanceRange | Distant |
Tint | -7 |
ToneCurve | 0, 0, 32, 22, 64, 56, 128, 128, 192, 196, 255, 255 |
ToneCurveName | Medium Contrast |
Version | 1.0 |
Vibrance | +15 |
VignetteAmount | 0 |
WhiteBalance (2) | As Shot |
WhiteBalance | Auto |