Felt | Verdi |
AlreadyApplied | True |
BitsPerSample | 8 |
BlueHue | 0 |
BlueSaturation | 0 |
Brightness | +50 |
CameraProfile | ACR 3.7 |
CFAPattern | [Red,Green][Green,Blue] |
ChromaticAberrationB | 0 |
ChromaticAberrationR | 0 |
CircleOfConfusion | 0.020 mm |
City | Eid |
ColorComponents | 3 |
ColorNoiseReduction | 25 |
ColorTemperature | 5500 |
Contrast (2) | +25 |
Contrast | Normal |
ConvertToGrayscale | False |
Country | Norge |
Country-PrimaryLocationName | Norge |
CreateDate | 2007:04:07 16:50:06 |
CreatorTool | Adobe Photoshop Lightroom |
CropAngle | 0 |
CropBottom | 0.845179 |
CropHeight | 416 |
CropLeft | 0 |
CropRight | 0.953143 |
CropTop | 0.044274 |
CropUnit | pixels |
CropWidth | 740 |
CustomRendered | Normal |
DateCreated | |
DateTimeDigitized | 2007:04:07 16:50:06+02:00 |
DateTimeOriginal (1) | 2007:04:07 16:50:06+02:00 |
DateTimeOriginal | 2007:04:07 16:50:06 |
Exposure | -0.33 |
ExposureCompensation | 0 |
ExposureMode | Manual |
ExposureProgram | Manual |
ExposureTime | 1/125 |
FillLight | 0 |
Flash | Off, Did not fire |
FlashFired | False |
FlashFunction | False |
FlashMode | Off |
FlashRedEyeMode | False |
FlashReturn | No return detection |
FocalLength | 500.0 mm |
FocalLength35efl | 500.0 mm (35 mm equivalent: 750.0 mm) |
FocalLengthIn35mmFormat | 750 mm |
FOV | 2.7 deg |
GreenHue | 0 |
GreenSaturation | 0 |
HasCrop | True |
HasSettings | True |
HighlightRecovery | 0 |
HueAdjustmentAqua | 0 |
HueAdjustmentBlue | 0 |
HueAdjustmentGreen | 0 |
HueAdjustmentMagenta | 0 |
HueAdjustmentOrange | 0 |
HueAdjustmentPurple | 0 |
HueAdjustmentRed | 0 |
HueAdjustmentYellow | 0 |
ImageHeight | 416 |
ImageSize | 740x416 |
ImageWidth | 740 |
ISO | 280 |
Keywords | Loer, Tjelder, Vipe |
Lens | K,M Lens |
LensID (1) | 1 0 |
LensID | K or M Lens |
LuminanceAdjustmentAqua | 0 |
LuminanceAdjustmentBlue | 0 |
LuminanceAdjustmentGreen | 0 |
LuminanceAdjustmentMagenta | 0 |
LuminanceAdjustmentOrange | 0 |
LuminanceAdjustmentPurple | 0 |
LuminanceAdjustmentRed | 0 |
LuminanceAdjustmentYellow | 0 |
LuminanceSmoothing | 0 |
Make | PENTAX Corporation |
Megapixels | 0.308 |
MeteringMode | Center-weighted average |
Model | PENTAX K10D |
ModifyDate (1) | 2007:05:10 21:12:32+02:00 |
ModifyDate | 2007:05:10 21:12:32 |
ParametricDarks | -31 |
ParametricHighlights | +20 |
ParametricHighlightSplit | 75 |
ParametricLights | +22 |
ParametricMidtoneSplit | 50 |
ParametricShadows | +41 |
ParametricShadowSplit | 25 |
PrivateRTKInfo | cHJpdmF0ZVJUS0luZm8gPSB7Cgl7CgkJZmxhdCA9IHsKCQkJIlRqZWxkZXIiLAoJCX0sCgkJcGF0aCA9IHsKCQkJIlRqZWxkZXIiLAoJCX0sCgkJcHJpbWFyeSA9ICJUamVsZGVyIiwKCQl1dWlkID0gIjQ3NjU2NTYyLTM0ODMtNEExRS1CNDZELUNCOTU5NzAyMEQyRCIsCgl9LAoJewoJCWZsYXQgPSB7CgkJCSJMb2VyIiwKCQkJIlZpcGUiLAoJCX0sCgkJcGF0aCA9IHsKCQkJIlZhZGUgLSBtw6VrZSBvZyBhbGtlZnVnbGVyIiwKCQkJIkxvZXIiLAoJCQkiVmlwZSIsCgkJfSwKCQlwcmltYXJ5ID0gIlZpcGUiLAoJCXV1aWQgPSAiMEU3MTdGODEtNjAyRi00MDM3LUFEMEQtNzM3MTczQkRGNUQ0IiwKCX0sCn0K |
ProfileDescription | sRGB IEC61966-2.1 |
Province-State | Sogn og Fjordane |
Rating | 1 |
RedHue | 0 |
RedSaturation | 0 |
Saturation (2) | 0 |
Saturation | Normal |
SaturationAdjustmentAqua | 0 |
SaturationAdjustmentBlue | 0 |
SaturationAdjustmentGreen | 0 |
SaturationAdjustmentMagenta | 0 |
SaturationAdjustmentOrange | 0 |
SaturationAdjustmentPurple | 0 |
SaturationAdjustmentRed | 0 |
SaturationAdjustmentYellow | 0 |
ScaleFactor35efl | 1.5 |
SceneCaptureType | Standard |
SensingMethod | One-chip color area |
Shadows | 15 |
ShadowTint | 0 |
Sharpness (2) | 25 |
Sharpness | Normal |
ShutterSpeed | 1/125 |
ShutterSpeedValue | 1/125 |
Software | K10D Ver 1.11 |
SplitToningBalance | 0 |
SplitToningHighlightHue | 0 |
SplitToningHighlightSaturation | 0 |
SplitToningShadowHue | 0 |
SplitToningShadowSaturation | 0 |
State | Sogn og Fjordane |
Subject | Loer, Tjelder, Vipe |
SubjectDistanceRange | Distant |
Tint | -5 |
ToneCurve | 0, 0, 32, 22, 64, 56, 128, 128, 192, 196, 255, 255 |
ToneCurveName | Medium Contrast |
Version | 1.0 |
Vibrance | +15 |
VignetteAmount | 0 |
WhiteBalance (2) | As Shot |
WhiteBalance | Auto |