Felt | Verdi |
AlreadyApplied | True |
Aperture | 1.4 |
ApertureValue | 1.4 |
BitsPerSample | 8 |
BlueHue | 0 |
BlueSaturation | 0 |
Brightness | +107 |
CameraProfile | ACR 2.4 |
ChromaticAberrationB | 0 |
ChromaticAberrationR | 0 |
Clarity | 50 |
ColorComponents | 3 |
ColorNoiseReduction | 36 |
ColorTemperature | 3650 |
Contrast | +27 |
ConvertToGrayscale | False |
Copyright | Aleksander M. Stensby |
CopyrightNotice | Aleksander M. Stensby |
CreateDate | 2008:02:29 23:36:04 |
CreatorTool | Adobe Photoshop Lightroom |
DateTimeDigitized | 2008:02:29 23:36:04+01:00 |
DateTimeOriginal (1) | 2008:02:29 23:36:04+01:00 |
DateTimeOriginal | 2008:02:29 23:36:04 |
Defringe | 0 |
Exposure | -0.38 |
ExposureCompensation | -1 |
ExposureProgram | Aperture-priority AE |
ExposureTime | 1/800 |
FillLight | 49 |
Firmware | 1.1.1 |
Flash | No Flash |
FlashFired | False |
FNumber | 1.4 |
FocalLength | 50.0 mm |
FocalLength35efl | 50.0 mm |
GreenHue | 0 |
GreenSaturation | 0 |
HasCrop | False |
HasSettings | True |
HighlightRecovery | 68 |
HueAdjustmentAqua | 0 |
HueAdjustmentBlue | 0 |
HueAdjustmentGreen | 0 |
HueAdjustmentMagenta | 0 |
HueAdjustmentOrange | 0 |
HueAdjustmentPurple | 0 |
HueAdjustmentRed | 0 |
HueAdjustmentYellow | 0 |
ImageHeight | 700 |
ImageSize | 467x700 |
ImageWidth | 467 |
ISO | 200 |
Keywords | bertine zetlitz |
Label | Red |
Lens | 50.0 mm |
LensInfo | 50mm f/? |
LightValue | 9.6 |
LuminanceAdjustmentAqua | 0 |
LuminanceAdjustmentBlue | 0 |
LuminanceAdjustmentGreen | 0 |
LuminanceAdjustmentMagenta | 0 |
LuminanceAdjustmentOrange | 0 |
LuminanceAdjustmentPurple | 0 |
LuminanceAdjustmentRed | 0 |
LuminanceAdjustmentYellow | 0 |
LuminanceSmoothing | 55 |
Make | Canon |
MaxApertureValue | 1.4 |
Megapixels | 0.327 |
MeteringMode | Multi-segment |
Model | Canon EOS 300D DIGITAL |
ModifyDate (1) | 2008:05:02 12:01:36+02:00 |
ModifyDate | 2008:05:02 12:01:36 |
ParametricDarks | 0 |
ParametricHighlights | 0 |
ParametricHighlightSplit | 75 |
ParametricLights | +42 |
ParametricMidtoneSplit | 50 |
ParametricShadows | 0 |
ParametricShadowSplit | 25 |
ProfileDescription | sRGB IEC61966-2.1 |
RedHue | 0 |
RedSaturation | 0 |
Rights | Aleksander M. Stensby |
Saturation | 0 |
SaturationAdjustmentAqua | 0 |
SaturationAdjustmentBlue | 0 |
SaturationAdjustmentGreen | 0 |
SaturationAdjustmentMagenta | 0 |
SaturationAdjustmentOrange | 0 |
SaturationAdjustmentPurple | 0 |
SaturationAdjustmentRed | 0 |
SaturationAdjustmentYellow | 0 |
SerialNumber | 1230425062 |
Shadows | 5 |
ShadowTint | 0 |
SharpenDetail | 30 |
SharpenEdgeMasking | 70 |
SharpenRadius | +1.7 |
Sharpness | 87 |
ShutterSpeed | 1/800 |
ShutterSpeedValue | 1/800 |
SplitToningBalance | 0 |
SplitToningHighlightHue | 0 |
SplitToningHighlightSaturation | 0 |
SplitToningShadowHue | 0 |
SplitToningShadowSaturation | 0 |
Subject | bertine zetlitz |
Tint | -7 |
ToneCurve | 0, 0, 32, 22, 64, 56, 128, 128, 192, 196, 255, 255 |
ToneCurveName | Medium Contrast |
Version | 1.0 |
Vibrance | +25 |
VignetteAmount | -74 |
VignetteMidpoint | 38 |
WhiteBalance | Custom |