Felt | Verdi |
AlreadyApplied | True |
Aperture | 5.6 |
ApertureValue | 5.6 |
BitsPerSample | 8 |
BlueHue | +11 |
BlueSaturation | -70 |
Brightness | +29 |
CameraProfile | ACR 2.4 |
ChromaticAberrationB | 0 |
ChromaticAberrationR | 0 |
Clarity | 0 |
ColorComponents | 3 |
ColorNoiseReduction | 25 |
ColorTemperature | 6100 |
Contrast | 0 |
ConvertToGrayscale | False |
Copyright | Aleksander M. Stensby |
CopyrightNotice | Aleksander M. Stensby |
CreateDate | 2008:01:20 16:18:12 |
CreatorTool | Adobe Photoshop Lightroom |
DateTimeDigitized | 2008:01:20 16:18:12+01:00 |
DateTimeOriginal (1) | 2008:01:20 16:18:12+01:00 |
DateTimeOriginal | 2008:01:20 16:18:12 |
Defringe | 0 |
Exposure | +1.15 |
ExposureCompensation | -1 |
ExposureProgram | Aperture-priority AE |
ExposureTime | 1/15 |
FillLight | 0 |
Firmware | 1.1.1 |
Flash | No Flash |
FlashFired | False |
FNumber | 5.6 |
FocalLength | 44.0 mm |
FocalLength35efl | 44.0 mm |
GreenHue | +11 |
GreenSaturation | +25 |
HasCrop | False |
HasSettings | True |
HighlightRecovery | 25 |
HueAdjustmentAqua | 0 |
HueAdjustmentBlue | 0 |
HueAdjustmentGreen | 0 |
HueAdjustmentMagenta | 0 |
HueAdjustmentOrange | 0 |
HueAdjustmentPurple | 0 |
HueAdjustmentRed | 0 |
HueAdjustmentYellow | 0 |
ImageHeight | 700 |
ImageSize | 467x700 |
ImageWidth | 467 |
ISO | 100 |
Lens | 17.0-85.0 mm |
LensInfo | 17-85mm f/? |
LightValue | 8.9 |
LuminanceAdjustmentAqua | 0 |
LuminanceAdjustmentBlue | 0 |
LuminanceAdjustmentGreen | 0 |
LuminanceAdjustmentMagenta | 0 |
LuminanceAdjustmentOrange | 0 |
LuminanceAdjustmentPurple | 0 |
LuminanceAdjustmentRed | 0 |
LuminanceAdjustmentYellow | 0 |
LuminanceSmoothing | 0 |
Make | Canon |
MaxApertureValue | 4.5 |
Megapixels | 0.327 |
MeteringMode | Multi-segment |
Model | Canon EOS 300D DIGITAL |
ModifyDate (1) | 2008:02:12 21:22:45+01:00 |
ModifyDate | 2008:02:12 21:22:45 |
ParametricDarks | -20 |
ParametricHighlights | +60 |
ParametricHighlightSplit | 75 |
ParametricLights | +10 |
ParametricMidtoneSplit | 50 |
ParametricShadows | -60 |
ParametricShadowSplit | 25 |
ProfileDescription | sRGB IEC61966-2.1 |
RedHue | +96 |
RedSaturation | +3 |
Rights | Aleksander M. Stensby |
Saturation | 0 |
SaturationAdjustmentAqua | +50 |
SaturationAdjustmentBlue | +58 |
SaturationAdjustmentGreen | +10 |
SaturationAdjustmentMagenta | 0 |
SaturationAdjustmentOrange | +13 |
SaturationAdjustmentPurple | +23 |
SaturationAdjustmentRed | 0 |
SaturationAdjustmentYellow | +23 |
Shadows | 14 |
ShadowTint | +8 |
SharpenDetail | 25 |
SharpenEdgeMasking | 0 |
SharpenRadius | +1.0 |
Sharpness | 25 |
ShutterSpeed | 1/15 |
ShutterSpeedValue | 1/15 |
SplitToningBalance | 0 |
SplitToningHighlightHue | 0 |
SplitToningHighlightSaturation | 0 |
SplitToningShadowHue | 0 |
SplitToningShadowSaturation | 0 |
Tint | +2 |
ToneCurve | 0, 0, 255, 255 |
ToneCurveName | Linear |
Version | 1.0 |
Vibrance | 0 |
VignetteAmount | -88 |
VignetteMidpoint | 34 |
WhiteBalance | As Shot |