Felt | Verdi |
AlreadyApplied | True |
Aperture | 5.0 |
ApertureValue | 5.0 |
BitsPerSample | 8 |
BlueHue | 0 |
BlueSaturation | 0 |
Brightness | 0 |
CameraProfile | Embedded |
CFAPattern | [Red,Green][Green,Blue] |
ChromaticAberrationB | -8 |
ChromaticAberrationR | -3 |
ColorComponents | 3 |
ColorMode | RGB |
ColorNoiseReduction | 0 |
ColorSpace (1) | Unknown (-1) |
ColorSpace | Uncalibrated |
Contrast (2) | 0 |
Contrast | Normal |
ConvertToGrayscale | False |
CreateDate (1) | 2008:10:16 11:28:38+02:00 |
CreateDate | 2008:10:14 18:15:42 |
CreatorTool | Adobe Photoshop CS3 Windows |
Creatortool | Microsoft Windows Photo Gallery 6.0.6001.18000 |
CustomRendered | Custom |
DateTimeDigitized | 2008:10:14 18:15:42+02:00 |
DateTimeOriginal (1) | 2008:10:14 18:15:42+02:00 |
DateTimeOriginal | 2008:10:14 18:15:42 |
DerivedFrom |
Description | OLYMPUS DIGITAL CAMERA |
DigitalZoomRatio | 1 |
ExifImageHeight (1) | 3458 |
ExifImageHeight | 1024 |
ExifImageWidth (1) | 2594 |
ExifImageWidth | 768 |
Exposure | 0.00 |
ExposureCompensation | 0 |
ExposureMode | Manual |
ExposureProgram | Manual |
ExposureTime | 1/25 |
FillLight | 0 |
Flash (1) |
Flash (2) | Unknown (0x48) |
Flash | No Flash |
FNumber | 5.0 |
FocalLength | 30.0 mm |
FocalLength35efl | 30.0 mm |
Format | image/jpeg |
GainControl | High gain up |
GreenHue | -9 |
GreenSaturation | +6 |
HasCrop | False |
HasSettings | True |
HighlightRecovery | 0 |
HueAdjustmentAqua | -2 |
HueAdjustmentBlue | -2 |
HueAdjustmentGreen | -1 |
HueAdjustmentMagenta | +1 |
HueAdjustmentOrange | -33 |
HueAdjustmentPurple | 0 |
HueAdjustmentRed | -22 |
HueAdjustmentYellow | +100 |
ICCProfileName | Adobe RGB (1998) |
ImageDescription | OLYMPUS DIGITAL CAMERA |
ImageHeight (1) | 3458 |
ImageHeight | 1024 |
ImageSize | 768x1024 |
ImageWidth (1) | 2594 |
ImageWidth | 768 |
IncrementalTemperature | 0 |
IncrementalTint | 0 |
ISO | 800 |
LightSource | Cloudy |
LightValue | 6.3 |
LuminanceAdjustmentAqua | 0 |
LuminanceAdjustmentBlue | 0 |
LuminanceAdjustmentGreen | 0 |
LuminanceAdjustmentMagenta | 0 |
LuminanceAdjustmentOrange | 0 |
LuminanceAdjustmentPurple | 0 |
LuminanceAdjustmentRed | 0 |
LuminanceAdjustmentYellow | 0 |
LuminanceSmoothing | 0 |
Make | OLYMPUS IMAGING CORP. |
MaxApertureValue | 3.5 |
Megapixels | 0.786 |
MeteringMode | Multi-segment |
Model | E-420 |
ModifyDate (1) | 2008:10:16 11:28:38+02:00 |
ModifyDate | 2009:01:08 21:28:58 |
Orientation | Horizontal (normal) |
ParametricDarks | -8 |
ParametricHighlights | +78 |
ParametricHighlightSplit | 75 |
ParametricLights | +89 |
ParametricMidtoneSplit | 50 |
ParametricShadows | -4 |
ParametricShadowSplit | 25 |
ProfileDescription | Adobe RGB (1998) |
Rating | 0 |
RawFileName | _A141403b.jpg |
RedHue | 0 |
RedSaturation | +3 |
Saturation (2) | -6 |
Saturation | High |
SaturationAdjustmentAqua | 0 |
SaturationAdjustmentBlue | 0 |
SaturationAdjustmentGreen | 0 |
SaturationAdjustmentMagenta | 0 |
SaturationAdjustmentOrange | 0 |
SaturationAdjustmentPurple | 0 |
SaturationAdjustmentRed | 0 |
SaturationAdjustmentYellow | 0 |
SceneCaptureType | Standard |
Shadows | 0 |
ShadowTint | 0 |
Sharpness (2) | 0 |
Sharpness | Hard |
ShutterSpeed | 1/25 |
ShutterSpeedValue | 1/25 |
Software (1) | Microsoft Windows Photo Gallery 6.0.6001.18000 |
Software | GIMP 2.4.5 |
SplitToningBalance | 0 |
SplitToningHighlightHue | 57 |
SplitToningHighlightSaturation | 100 |
SplitToningShadowHue | 32 |
SplitToningShadowSaturation | 62 |
ToneCurve | 0, 0, 255, 255 |
ToneCurveName | Linear |
Version | 4.0 |
Vibrance | -44 |
VignetteAmount | 0 |
WhiteBalance (2) | As Shot |
WhiteBalance | Manual |