Felt | Verdi |
AlreadyApplied | True |
Aperture | 4.0 |
ApertureValue | 4.0 |
Artist | Tanja Birkeland |
AuthorsPosition | Photographer |
BitsPerSample | 8 |
BlueHue | 0 |
BlueSaturation | 0 |
Brightness | +50 |
By-line | Tanja Birkeland |
By-lineTitle | Photographer |
CameraProfile | Embedded |
ChromaticAberrationB | 0 |
ChromaticAberrationR | 0 |
CircleOfConfusion | 0.019 mm |
Clarity | 0 |
ColorComponents | 3 |
ColorNoiseReduction | 25 |
ColorSpace | Unknown (-1) |
Contrast | +25 |
ConvertToGrayscale | True |
Copyright | Tanja Birkeland |
CopyrightNotice | Tanja Birkeland |
CreateDate (1) | 2009:02:08 22:12:20+01:00 |
CreateDate | 2009:02:08 22:12:20 |
Creator | Tanja Birkeland |
CreatorAddress | Badehusgata 41 |
CreatorCity | Stavanger |
CreatorCountry | Norway |
CreatorPostalCode | 4014 |
CreatorRegion | 4014 |
CreatorTool | Adobe Photoshop Lightroom |
CreatorWorkEmail | tanjabirkeland@gmail.com |
CreatorWorkTelephone | +47 90 91 06 15 |
CustomRendered | Normal |
DateTimeDigitized | 2009:02:08 22:12:20+01:00 |
DateTimeOriginal (1) | 2009:02:08 22:12:20+01:00 |
DateTimeOriginal | 2009:02:08 22:12:20 |
Defringe | 0 |
ExifImageHeight | 567 |
ExifImageWidth | 567 |
Exposure | -2.52 |
ExposureCompensation | 0 |
ExposureMode | Manual |
ExposureProgram | Manual |
ExposureTime | 1/200 |
FillLight | 71 |
Firmware | 1.0.3 |
Flash | On, Fired |
FlashCompensation | 1 |
FlashFired | True |
FlashFunction | False |
FlashMode | On |
FlashRedEyeMode | False |
FlashReturn | No return detection |
FNumber | 4.0 |
FocalLength | 70.0 mm |
FocalLength35efl | 70.0 mm (35 mm equivalent: 113.6 mm) |
Format | application/vnd.adobe.photoshop |
FOV | 18.0 deg |
GrayMixerAqua | -10 |
GrayMixerBlue | +20 |
GrayMixerGreen | -17 |
GrayMixerMagenta | +32 |
GrayMixerOrange | +12 |
GrayMixerPurple | +25 |
GrayMixerRed | +39 |
GrayMixerYellow | -9 |
GreenHue | 0 |
GreenSaturation | 0 |
HasCrop | False |
HasSettings | True |
HighlightRecovery | 0 |
HyperfocalDistance | 66.14 m |
ImageHeight | 567 |
ImageNumber | 67 |
ImageSize | 567x567 |
ImageWidth | 567 |
IncrementalTemperature | +8 |
IncrementalTint | -16 |
ISO | 200 |
Keywords | arna kristian jarl stella rŒheim |
Lens | 24.0-105.0 mm |
LensInfo | 24-105mm f/? |
LightValue | 10.6 |
LuminanceSmoothing | 0 |
Make | Canon |
MaxApertureValue | 4.0 |
Megapixels | 0.321 |
MeteringMode | Partial |
Model | Canon EOS 350D DIGITAL |
ModifyDate (1) | 2009:02:13 16:43:57+01:00 |
ModifyDate | 2009:02:13 16:43:57 |
OwnerName | unknown |
PaintCorrectionActive | true |
PaintCorrectionAmount | 1.000000 |
PaintCorrectionBrightness | 0.000000 |
PaintCorrectionClarity | 0.000000 |
PaintCorrectionContrast | 0.000000 |
PaintCorrectionExposure (1) | 0.123636 |
PaintCorrectionExposure | -0.227273 |
PaintCorrectionHue | 0.000000 |
PaintCorrectionMaskCenterWeight | 0.037575 |
PaintCorrectionMaskFlow | 1.000000 |
PaintCorrectionMaskRadius (1) | 0.136034 |
PaintCorrectionMaskRadius | 0.184659 |
PaintCorrectionMaskValue | 1.000000 |
PaintCorrectionMaskWhat | Mask/Paint |
PaintCorrectionSaturation | 0.000000 |
PaintCorrectionSharpness | 0.000000 |
PaintCorrectionWhat | Correction |
ParametricDarks | -17 |
ParametricHighlights | 0 |
ParametricHighlightSplit | 75 |
ParametricLights | +28 |
ParametricMidtoneSplit | 50 |
ParametricShadows | 0 |
ParametricShadowSplit | 25 |
PostCropVignetteAmount | 0 |
ProfileDescription | sRGB IEC61966-2.1 |
RedHue | 0 |
RedSaturation | 0 |
Rights | Tanja Birkeland |
ScaleFactor35efl | 1.6 |
SceneCaptureType | Standard |
SerialNumber | 1530717811 |
Shadows | 2 |
ShadowTint | 0 |
SharpenDetail | 25 |
SharpenEdgeMasking | 0 |
SharpenRadius | +1.0 |
Sharpness | 25 |
ShutterSpeed | 1/200 |
ShutterSpeedValue | 1/200 |
Software | Adobe Photoshop CS3 Macintosh |
SplitToningBalance | 0 |
SplitToningHighlightHue | 51 |
SplitToningHighlightSaturation | 22 |
SplitToningShadowHue | 37 |
SplitToningShadowSaturation | 32 |
Subject | arna kristian jarl stella råheim |
ToneCurve | 0, 0, 32, 22, 64, 56, 128, 128, 192, 196, 255, 255 |
ToneCurveName | Medium Contrast |
UsageTerms | ©Tanja Birkeland |
Version | 4.6 |
VignetteAmount | 0 |
WhiteBalance (2) | Custom |
WhiteBalance | Auto |