Felt | Verdi |
AlreadyApplied | True |
Aperture | 4.5 |
ApertureValue | 4.5 |
BitsPerSample | 8 |
BlueHue | 0 |
BlueSaturation | 0 |
Brightness | +50 |
CameraProfile | ACR 4.4 |
ChromaticAberrationB | 0 |
ChromaticAberrationR | 0 |
CircleOfConfusion | 0.019 mm |
Clarity | +100 |
ColorComponents | 1 |
ColorMode | RGB |
ColorNoiseReduction | 25 |
ColorSpace (1) | Unknown (-1) |
ColorSpace | Uncalibrated |
ColorTemperature | 5250 |
Contrast | +51 |
ConvertToGrayscale | False |
CopyrightFlag | False |
CreateDate (1) | 2009:03:16 14:53:45+01:00 |
CreateDate | 2009:01:23 22:22:52 |
CreatorTool | Adobe Photoshop CS3 Windows |
CropAngle | 0 |
CropBottom | 0.978686 |
CropLeft | 0.157583 |
CropRight | 0.836493 |
CropTop | 0 |
CustomRendered | Normal |
DateTimeDigitized | 2009:01:23 22:22:52.01+01:00 |
DateTimeOriginal (1) | 2009:01:23 22:22:52.01+01:00 |
DateTimeOriginal | 2009:01:23 22:22:52 |
Defringe | 0 |
DerivedFrom | |
ExifImageHeight | 2537 |
ExifImageWidth | 2640 |
Exposure | 0.00 |
ExposureCompensation | 0 |
ExposureMode | Manual |
ExposureProgram | Manual |
ExposureTime | 0.3 |
FillLight | 68 |
Firmware | 1.0.8 |
Flash | On, Fired |
FlashCompensation | 0 |
FlashFired | True |
FlashFunction | False |
FlashMode | On |
FlashRedEyeMode | False |
FlashReturn | No return detection |
FNumber | 4.5 |
FocalLength | 12.0 mm |
FocalLength35efl | 12.0 mm (35 mm equivalent: 19.4 mm) |
Format | image/jpeg |
FOV | 85.6 deg |
GreenHue | 0 |
GreenSaturation | 0 |
HasCrop | True |
HasSettings | True |
HighlightRecovery | 0 |
HueAdjustmentAqua | 0 |
HueAdjustmentBlue | 0 |
HueAdjustmentGreen | 0 |
HueAdjustmentMagenta | 0 |
HueAdjustmentOrange | 0 |
HueAdjustmentPurple | 0 |
HueAdjustmentRed | 0 |
HueAdjustmentYellow | 0 |
HyperfocalDistance | 1.72 m |
ICCProfileName | Adobe RGB (1998) |
ImageHeight | 2537 |
ImageNumber | 0 |
ImageSize | 2640x2537 |
ImageWidth | 2640 |
ISO | 100 |
Lens | 12-24mm |
LensInfo | 12-24mm f/? |
LightValue | 6.1 |
LuminanceAdjustmentAqua | 0 |
LuminanceAdjustmentBlue | 0 |
LuminanceAdjustmentGreen | 0 |
LuminanceAdjustmentMagenta | 0 |
LuminanceAdjustmentOrange | 0 |
LuminanceAdjustmentPurple | 0 |
LuminanceAdjustmentRed | 0 |
LuminanceAdjustmentYellow | 0 |
LuminanceSmoothing | 0 |
Make | Canon |
MaxApertureValue | 4.0 |
Megapixels | 6.7 |
MeteringMode | Spot |
Model | Canon EOS 40D |
ModifyDate (1) | 2009:03:16 14:53:45+01:00 |
ModifyDate | 2009:03:16 14:53:45 |
Orientation | Horizontal (normal) |
ParametricDarks | 0 |
ParametricHighlights | 0 |
ParametricHighlightSplit | 75 |
ParametricLights | 0 |
ParametricMidtoneSplit | 50 |
ParametricShadows | 0 |
ParametricShadowSplit | 25 |
PostCropVignetteAmount | 0 |
ProfileDescription | Adobe RGB (1998) |
Rating | 0 |
RawFileName | IMG_0497.CR2 |
RedHue | 0 |
RedSaturation | 0 |
Saturation | -100 |
SaturationAdjustmentAqua | 0 |
SaturationAdjustmentBlue | 0 |
SaturationAdjustmentGreen | 0 |
SaturationAdjustmentMagenta | 0 |
SaturationAdjustmentOrange | 0 |
SaturationAdjustmentPurple | 0 |
SaturationAdjustmentRed | 0 |
SaturationAdjustmentYellow | 0 |
ScaleFactor35efl | 1.6 |
SceneCaptureType | Standard |
SerialNumber | 1430735018 |
Shadows | 63 |
ShadowTint | 0 |
SharpenDetail | 25 |
SharpenEdgeMasking | 0 |
SharpenRadius | +1.0 |
Sharpness | 38 |
ShutterSpeed | 0.3 |
ShutterSpeedValue | 0.3 |
SidecarForExtension | CR2 |
Software | Adobe Photoshop CS3 Windows |
SplitToningBalance | 0 |
SplitToningHighlightHue | 0 |
SplitToningHighlightSaturation | 0 |
SplitToningShadowHue | 0 |
SplitToningShadowSaturation | 0 |
Tint | -5 |
ToneCurve | 0, 0, 32, 22, 64, 56, 128, 128, 192, 196, 255, 255 |
ToneCurveName | Medium Contrast |
URL_List | |
Version | 4.6 |
Vibrance | -4 |
VignetteAmount | -70 |
VignetteMidpoint | 50 |
WhiteBalance (2) | As Shot |
WhiteBalance | Auto |