Felt | Verdi |
AlreadyApplied | True |
Aperture | 8.0 |
ApertureValue | 8.0 |
BitsPerSample | 8 |
BlueHue | +11 |
BlueSaturation | -21 |
Brightness | 0 |
By-line | Joan Lu Fiksdal |
CameraProfile | Adobe Standard |
CFAPattern | [Green,Blue][Red,Green] |
ChromaticAberrationB | 0 |
ChromaticAberrationR | 0 |
CircleOfConfusion | 0.020 mm |
Clarity | +50 |
ColorComponents | 3 |
ColorNoiseReduction | 25 |
ColorTemperature | 4381 |
Contrast (2) | +20 |
Contrast | Normal |
ConvertToGrayscale | False |
Copyright | @JLY |
CopyrightNotice | @JLY |
CreateDate (1) | 2009:05:18 18:09:26.00+02:00 |
CreateDate | 2009:05:18 18:09:26 |
Creator | Joan Lu Fiksdal |
CreatorCity | Molde |
CreatorTool | Adobe Photoshop Lightroom |
CreatorWorkEmail | teddypeppy@hotmail.com |
CropAngle | 0 |
CropBottom | 0.749553 |
CropHeight | 1197 |
CropLeft | 0.213777 |
CropRight | 0.890736 |
CropTop | 0.32916 |
CropUnit | pixels |
CropWidth | 2903 |
CustomRendered | Normal |
DateTimeDigitized | 2009:05:18 18:09:26.00+02:00 |
DateTimeOriginal (1) | 2009:05:18 18:09:26.00+02:00 |
DateTimeOriginal | 2009:05:18 18:09:26 |
Defringe | 0 |
DigitalZoomRatio | 1 |
ExifImageHeight | 1197 |
ExifImageWidth | 2903 |
Exposure | +2.10 |
ExposureCompensation | 0 |
ExposureMode | Auto |
ExposureProgram | Program AE |
ExposureTime | 1/250 |
FillLight | 14 |
Flash | No Flash |
FlashFired | False |
FlashFunction | False |
FlashMode | Unknown |
FlashRedEyeMode | False |
FlashReturn | No return detection |
FNumber | 8.0 |
FocalLength | 38.0 mm |
FocalLength35efl | 38.0 mm (35 mm equivalent: 57.0 mm) |
FocalLengthIn35mmFormat | 57 mm |
FOV | 35.1 deg |
GainControl | None |
GreenHue | +16 |
GreenSaturation | +51 |
HasCrop | True |
HasSettings | True |
HighlightRecovery | 63 |
HueAdjustmentAqua | 0 |
HueAdjustmentBlue | 0 |
HueAdjustmentGreen | -1 |
HueAdjustmentMagenta | +17 |
HueAdjustmentOrange | +15 |
HueAdjustmentPurple | 0 |
HueAdjustmentRed | +33 |
HueAdjustmentYellow | 0 |
HyperfocalDistance | 9.01 m |
ImageHeight | 1197 |
ImageNumber | 3482 |
ImageSize | 2903x1197 |
ImageWidth | 2903 |
ISO | 200 |
Lens | 17.0-55.0 mm f/2.8 |
LensInfo | 17-55mm f/2.8 |
LightSource | Unknown |
LightValue | 13.0 |
LuminanceAdjustmentAqua | 0 |
LuminanceAdjustmentBlue | 0 |
LuminanceAdjustmentGreen | 0 |
LuminanceAdjustmentMagenta | 0 |
LuminanceAdjustmentOrange | 0 |
LuminanceAdjustmentPurple | 0 |
LuminanceAdjustmentRed | 0 |
LuminanceAdjustmentYellow | 0 |
LuminanceSmoothing | 0 |
Make | NIKON CORPORATION |
MaxApertureValue | 2.8 |
Megapixels | 3.5 |
MeteringMode | Multi-segment |
Model | NIKON D90 |
ModifyDate (1) | 2009:08:18 12:28:44+02:00 |
ModifyDate | 2009:08:18 12:28:44 |
ParametricDarks | -20 |
ParametricHighlights | +62 |
ParametricHighlightSplit | 75 |
ParametricLights | +3 |
ParametricMidtoneSplit | 50 |
ParametricShadows | -60 |
ParametricShadowSplit | 25 |
PostCropVignetteAmount | 0 |
ProfileDescription | Adobe RGB (1998) |
RedHue | +23 |
RedSaturation | +10 |
Rights | @JLY |
Saturation (2) | 0 |
Saturation | Normal |
SaturationAdjustmentAqua | 0 |
SaturationAdjustmentBlue | +83 |
SaturationAdjustmentGreen | 0 |
SaturationAdjustmentMagenta | 0 |
SaturationAdjustmentOrange | 0 |
SaturationAdjustmentPurple | +42 |
SaturationAdjustmentRed | 0 |
SaturationAdjustmentYellow | 0 |
ScaleFactor35efl | 1.5 |
SceneCaptureType | Standard |
SceneType | Directly photographed |
SensingMethod | One-chip color area |
SerialNumber | 6056899 |
Shadows | 26 |
ShadowTint | +4 |
SharpenDetail | 50 |
SharpenEdgeMasking | 0 |
SharpenRadius | +0.8 |
Sharpness (2) | 40 |
Sharpness | Normal |
ShutterSpeed | 1/250 |
ShutterSpeedValue | 1/250 |
Software | Ver.1.00 |
SplitToningBalance | 0 |
SplitToningHighlightHue | 69 |
SplitToningHighlightSaturation | 10 |
SplitToningShadowHue | 73 |
SplitToningShadowSaturation | 21 |
SubjectDistanceRange | Unknown |
Tint | +4 |
ToneCurve | 0, 0, 255, 255 |
ToneCurveName | Linear |
Version | 5.2 |
Vibrance | 0 |
VignetteAmount | -100 |
VignetteMidpoint | 40 |
WhiteBalance (2) | Custom |
WhiteBalance | Auto |