Felt | Verdi |
AlreadyApplied | True |
Aperture | 13.0 |
ApertureValue | 13.0 |
BitsPerSample | 8 |
BlueHue | 0 |
BlueSaturation | 0 |
Brightness | +50 |
CameraProfile | Adobe Standard |
ChromaticAberrationB | 0 |
ChromaticAberrationR | 0 |
CircleOfConfusion | 0.031 mm |
Clarity | +30 |
ColorComponents | 3 |
ColorNoiseReduction | 25 |
ColorTemperature | 5350 |
Contrast | +27 |
ConvertToGrayscale | False |
CreateDate (1) | 2009:10:13 17:23:27.77+02:00 |
CreateDate | 2009:10:13 17:23:27 |
CreatorTool | Adobe Photoshop Lightroom |
CropAngle | 0 |
CropBottom | 0.754167 |
CropHeight | 400 |
CropLeft | 0.158333 |
CropRight | 0.9125 |
CropTop | 0 |
CropUnit | pixels |
CropWidth | 600 |
CustomRendered | Normal |
DateTimeDigitized | 2009:10:13 17:23:27.77+02:00 |
DateTimeOriginal (1) | 2009:10:13 17:23:27.77+02:00 |
DateTimeOriginal | 2009:10:13 17:23:27 |
Defringe | 0 |
ExifImageHeight | 400 |
ExifImageWidth | 600 |
Exposure | 0.00 |
ExposureCompensation | +2/3 |
ExposureMode | Auto |
ExposureProgram | Program AE |
ExposureTime | 1/80 |
FillLight | 0 |
Firmware | 1.1.0 |
Flash | Off, Did not fire |
FlashCompensation | 0 |
FlashFired | False |
FlashFunction | False |
FlashMode | Off |
FlashRedEyeMode | False |
FlashReturn | No return detection |
FNumber | 13.0 |
FocalLength | 29.0 mm |
FocalLength35efl | 29.0 mm (35 mm equivalent: 28.3 mm) |
FOV | 64.9 deg |
GradientBasedCorrActive | true |
GradientBasedCorrAmount | 1.000000 |
GradientBasedCorrBrightness | 0.000000 |
GradientBasedCorrClarity | 0.000000 |
GradientBasedCorrContrast | 0.000000 |
GradientBasedCorrExposure (1) | -0.337000 |
GradientBasedCorrExposure | -0.188000 |
GradientBasedCorrHue | 230.000000 |
GradientBasedCorrMaskFullX (1) | 0.489583 |
GradientBasedCorrMaskFullX | 0.070833 |
GradientBasedCorrMaskFullY (1) | 0.001563 |
GradientBasedCorrMaskFullY | -0.029687 |
GradientBasedCorrMaskValue | 1.000000 |
GradientBasedCorrMaskWhat | Mask/Gradient |
GradientBasedCorrMaskZeroX (1) | 0.492708 |
GradientBasedCorrMaskZeroX | 0.184375 |
GradientBasedCorrMaskZeroY (1) | 0.626563 |
GradientBasedCorrMaskZeroY | 0.567187 |
GradientBasedCorrSaturation | 0.000000 |
GradientBasedCorrSharpness | 0.000000 |
GradientBasedCorrWhat | Correction |
GreenHue | 0 |
GreenSaturation | 0 |
HasCrop | True |
HasSettings | True |
HierarchicalSubject | Akivitet, Akivitet|Høstfest, Motiv, Motiv|Siv, Motiv|Vannspeil, Sted, Sted|Hemsedal, Sted|Hemsedal|Skogshorn |
HighlightRecovery | 0 |
HueAdjustmentAqua | 0 |
HueAdjustmentBlue | 0 |
HueAdjustmentGreen | 0 |
HueAdjustmentMagenta | 0 |
HueAdjustmentOrange | 0 |
HueAdjustmentPurple | 0 |
HueAdjustmentRed | 0 |
HueAdjustmentYellow | 0 |
HyperfocalDistance | 2.10 m |
ImageHeight | 400 |
ImageNumber | 0 |
ImageSize | 600x400 |
ImageWidth | 600 |
ISO | 200 |
Keywords | Akivitet, Hemsedal, Høstfest, Motiv, Siv, Skogshorn, Sted, Vannspeil |
Lens | EF16-35mm f/2.8L II USM |
LensInfo | 16-35mm f/? |
LightValue | 12.7 |
LuminanceAdjustmentAqua | 0 |
LuminanceAdjustmentBlue | -13 |
LuminanceAdjustmentGreen | 0 |
LuminanceAdjustmentMagenta | 0 |
LuminanceAdjustmentOrange | 0 |
LuminanceAdjustmentPurple | 0 |
LuminanceAdjustmentRed | 0 |
LuminanceAdjustmentYellow | 0 |
LuminanceSmoothing | 0 |
Make | Canon |
MaxApertureValue | 2.8 |
Megapixels | 0.240 |
MeteringMode | Multi-segment |
Model | Canon EOS 5D Mark II |
ModifyDate (1) | 2009:10:13 22:36:45+02:00 |
ModifyDate | 2009:10:13 22:36:45 |
Orientation | Horizontal (normal) |
ParametricDarks | -5 |
ParametricHighlights | 0 |
ParametricHighlightSplit | 75 |
ParametricLights | +5 |
ParametricMidtoneSplit | 50 |
ParametricShadows | 0 |
ParametricShadowSplit | 25 |
PostCropVignetteAmount | 0 |
ProfileDescription | sRGB IEC61966-2.1 |
Rating | 2 |
RedHue | 0 |
RedSaturation | 0 |
Saturation | +5 |
SaturationAdjustmentAqua | 0 |
SaturationAdjustmentBlue | +8 |
SaturationAdjustmentGreen | 0 |
SaturationAdjustmentMagenta | 0 |
SaturationAdjustmentOrange | 0 |
SaturationAdjustmentPurple | 0 |
SaturationAdjustmentRed | 0 |
SaturationAdjustmentYellow | 0 |
SavedSettingsName | Import |
SavedSettingsParametersBlueHue | 0 |
SavedSettingsParametersBlueSaturation | 0 |
SavedSettingsParametersBrightness | 0 |
SavedSettingsParametersCameraProfile | Embedded |
SavedSettingsParametersChromaticAberrationB | 0 |
SavedSettingsParametersChromaticAberrationR | 0 |
SavedSettingsParametersClarity | 0 |
SavedSettingsParametersColorNoiseReduction | 0 |
SavedSettingsParametersContrast | 0 |
SavedSettingsParametersConvertToGrayscale | False |
SavedSettingsParametersDefringe | 0 |
SavedSettingsParametersExposure | 0.00 |
SavedSettingsParametersFillLight | 0 |
SavedSettingsParametersGreenHue | 0 |
SavedSettingsParametersGreenSaturation | 0 |
SavedSettingsParametersHighlightRecovery | 0 |
SavedSettingsParametersHueAdjustmentAqua | 0 |
SavedSettingsParametersHueAdjustmentBlue | 0 |
SavedSettingsParametersHueAdjustmentGreen | 0 |
SavedSettingsParametersHueAdjustmentMagenta | 0 |
SavedSettingsParametersHueAdjustmentOrange | 0 |
SavedSettingsParametersHueAdjustmentPurple | 0 |
SavedSettingsParametersHueAdjustmentRed | 0 |
SavedSettingsParametersHueAdjustmentYellow | 0 |
SavedSettingsParametersIncrementalTemperature | 0 |
SavedSettingsParametersIncrementalTint | 0 |
SavedSettingsParametersLuminanceAdjustmentAqua | 0 |
SavedSettingsParametersLuminanceAdjustmentBlue | 0 |
SavedSettingsParametersLuminanceAdjustmentGreen | 0 |
SavedSettingsParametersLuminanceAdjustmentMagenta | 0 |
SavedSettingsParametersLuminanceAdjustmentOrange | 0 |
SavedSettingsParametersLuminanceAdjustmentPurple | 0 |
SavedSettingsParametersLuminanceAdjustmentRed | 0 |
SavedSettingsParametersLuminanceAdjustmentYellow | 0 |
SavedSettingsParametersLuminanceSmoothing | 0 |
SavedSettingsParametersParametricDarks | 0 |
SavedSettingsParametersParametricHighlights | 0 |
SavedSettingsParametersParametricHighlightSplit | 75 |
SavedSettingsParametersParametricLights | 0 |
SavedSettingsParametersParametricMidtoneSplit | 50 |
SavedSettingsParametersParametricShadows | 0 |
SavedSettingsParametersParametricShadowSplit | 25 |
SavedSettingsParametersPostCropVignetteAmount | 0 |
SavedSettingsParametersRedHue | 0 |
SavedSettingsParametersRedSaturation | 0 |
SavedSettingsParametersSaturation | 0 |
SavedSettingsParametersSaturationAdjustmentAqua | 0 |
SavedSettingsParametersSaturationAdjustmentBlue | 0 |
SavedSettingsParametersSaturationAdjustmentGreen | 0 |
SavedSettingsParametersSaturationAdjustmentMagenta | 0 |
SavedSettingsParametersSaturationAdjustmentOrange | 0 |
SavedSettingsParametersSaturationAdjustmentPurple | 0 |
SavedSettingsParametersSaturationAdjustmentRed | 0 |
SavedSettingsParametersSaturationAdjustmentYellow | 0 |
SavedSettingsParametersShadows | 0 |
SavedSettingsParametersShadowTint | 0 |
SavedSettingsParametersSharpenDetail | 25 |
SavedSettingsParametersSharpenEdgeMasking | 0 |
SavedSettingsParametersSharpenRadius | +1.0 |
SavedSettingsParametersSharpness | 0 |
SavedSettingsParametersSplitToningBalance | 0 |
SavedSettingsParametersSplitToningHighlightHue | 0 |
SavedSettingsParametersSplitToningHighlightSaturation | 0 |
SavedSettingsParametersSplitToningShadowHue | 0 |
SavedSettingsParametersSplitToningShadowSaturation | 0 |
SavedSettingsParametersToneCurve | 0, 0, 255, 255 |
SavedSettingsParametersToneCurveName | Linear |
SavedSettingsParametersVersion | 5.5 |
SavedSettingsParametersVibrance | 0 |
SavedSettingsParametersVignetteAmount | 0 |
SavedSettingsParametersWhiteBalance | As Shot |
SavedSettingsType | Snapshot |
ScaleFactor35efl | 1.0 |
SceneCaptureType | Standard |
SerialNumber | 530319473 |
Shadows | 6 |
ShadowTint | 0 |
SharpenDetail | 50 |
SharpenEdgeMasking | 0 |
SharpenRadius | +0.8 |
Sharpness | 40 |
ShutterSpeed | 1/80 |
ShutterSpeedValue | 1/80 |
SplitToningBalance | 0 |
SplitToningHighlightHue | 0 |
SplitToningHighlightSaturation | 0 |
SplitToningShadowHue | 0 |
SplitToningShadowSaturation | 0 |
Subject | Akivitet, Hemsedal, Høstfest, Motiv, Siv, Skogshorn, Sted, Vannspeil |
Tint | +6 |
ToneCurve | 0, 0, 32, 22, 64, 56, 128, 128, 192, 196, 255, 255 |
ToneCurveName | Medium Contrast |
Version | 5.5 |
Vibrance | +10 |
VignetteAmount | 0 |
WhiteBalance (2) | As Shot |
WhiteBalance | Auto |