Felt | Verdi |
AlreadyApplied | True |
Aperture | 5.0 |
ApertureValue | 5.0 |
BitsPerSample | 8 |
BlueHue | 0 |
BlueSaturation | 0 |
Brightness | -18 |
CameraProfile | Embedded |
ChromaticAberrationB | 0 |
ChromaticAberrationR | 0 |
CircleOfConfusion | 0.019 mm |
Clarity | -19 |
ColorComponents | 1 |
ColorNoiseReduction | 0 |
ColorSpace | Uncalibrated |
Contrast | +100 |
ConvertToGrayscale | True |
Copyright | Tony Michael Karlsson |
CopyrightFlag | True |
CopyrightNotice | Tony Michael Karlsson |
CreateDate (1) | 2010:03:03 18:03:59.58+01:00 |
CreateDate | 2010:03:03 18:03:59 |
Creator | |
CreatorTool | Adobe Photoshop Lightroom |
CreatorWorkEmail | rufus777@gmail.com |
CustomRendered | Normal |
DateTimeDigitized | 2010:03:03 18:03:59.58+01:00 |
DateTimeOriginal (1) | 2010:03:03 18:03:59.58+01:00 |
DateTimeOriginal | 2010:03:03 18:03:59 |
Defringe | 0 |
DOF | 0.02 m (0.28 - 0.30 m) |
ExifImageHeight | 600 |
ExifImageWidth | 400 |
Exposure | +0.29 |
ExposureCompensation | 0 |
ExposureMode | Manual |
ExposureProgram | Manual |
ExposureTime | 1/200 |
FillLight | 0 |
Firmware | 1.1.0 |
Flash | Off, Did not fire |
FlashCompensation | 0 |
FlashFired | False |
FlashFunction | False |
FlashMode | Off |
FlashRedEyeMode | False |
FlashReturn | No return detection |
FNumber | 5.0 |
FocalLength | 25.0 mm |
FocalLength35efl | 25.0 mm (35 mm equivalent: 40.4 mm) |
Format | image/tiff |
FOV | 48.0 deg |
GrayMixerAqua | -18 |
GrayMixerBlue | +10 |
GrayMixerGreen | -27 |
GrayMixerMagenta | +3 |
GrayMixerOrange | -20 |
GrayMixerPurple | +15 |
GrayMixerRed | -11 |
GrayMixerYellow | -24 |
GreenHue | 0 |
GreenSaturation | 0 |
HasCrop | False |
HasSettings | True |
HighlightRecovery | 0 |
HyperfocalDistance | 6.72 m |
ImageHeight | 600 |
ImageNumber | 0 |
ImageSize | 400x600 |
ImageWidth | 400 |
IncrementalTemperature | -5 |
IncrementalTint | -52 |
ISO | 100 |
Keywords | heim, studio, trondheim |
Lens | EF-S18-55mm f/3.5-5.6 IS |
LensID (1) | 48 |
LensID | Canon EF-S 18-55mm f/3.5-5.6 IS |
LensInfo | 18-55mm f/? |
LightValue | 12.3 |
LuminanceSmoothing | 0 |
Make | Canon |
Marked | True |
MaxApertureValue | 4.0 |
Megapixels | 0.240 |
MeteringMode | Spot |
Model | Canon EOS 450D |
ModifyDate (1) | 2010:03:03 22:44:28+01:00 |
ModifyDate | 2010:03:03 22:44:28 |
OwnerName | Rufus777 |
ParametricDarks | 0 |
ParametricHighlights | +31 |
ParametricHighlightSplit | 75 |
ParametricLights | -19 |
ParametricMidtoneSplit | 50 |
ParametricShadows | 0 |
ParametricShadowSplit | 25 |
PostCropVignetteAmount | 0 |
ProfileDescription | sRGB IEC61966-2.1 |
Rating | 4 |
RedHue | 0 |
RedSaturation | 0 |
Rights | Tony Michael Karlsson |
ScaleFactor35efl | 1.6 |
SceneCaptureType | Standard |
SerialNumber | 1880537899 |
Shadows | 0 |
ShadowTint | 0 |
SharpenDetail | 25 |
SharpenEdgeMasking | 0 |
SharpenRadius | +1.0 |
Sharpness | 0 |
ShutterSpeed | 1/200 |
ShutterSpeedValue | 1/200 |
Software | Adobe Photoshop Lightroom |
SplitToningBalance | 0 |
SplitToningHighlightHue | 0 |
SplitToningHighlightSaturation | 0 |
SplitToningShadowHue | 0 |
SplitToningShadowSaturation | 0 |
Subject | heim, studio, trondheim |
SubjectDistance | 0.29 m |
ToneCurve | 0, 0, 255, 255 |
ToneCurveName | Linear |
Version | 5.6 |
VignetteAmount | 0 |
WhiteBalance (2) | Custom |
WhiteBalance | Auto |