Felt | Verdi |
AlreadyApplied | True |
Aperture | 4.8 |
ApertureValue | 4.8 |
Artist | Truls Erik Nilsen |
BitsPerSample | 8 |
BlueHue | 0 |
BlueSaturation | 0 |
Brightness | +50 |
By-line | Truls Erik Nilsen |
CameraProfile | Adobe Standard |
CFAPattern | [Red,Green][Green,Blue] |
ChromaticAberrationB | 0 |
ChromaticAberrationR | 0 |
CircleOfConfusion | 0.030 mm |
Clarity | +43 |
ColorComponents | 3 |
ColorMode | RGB |
ColorNoiseReduction | 25 |
ColorSpace | Uncalibrated |
ColorTemperature | 4738 |
Contrast (2) | +25 |
Contrast | Normal |
ConvertToGrayscale | False |
Copyright | Truls Erik Nilsen (C) 2008 |
CopyrightFlag | True |
CopyrightNotice | Truls Erik Nilsen (C) 2008 |
CreateDate (1) | 2010:03:04 14:00:02.48+01:00 |
CreateDate | 2010:03:04 14:00:02 |
Creator | Truls Erik Nilsen |
CreatorAddress | Jacobine Ryes vei 25 |
CreatorCity | Oslo |
CreatorCountry | Norway |
CreatorPostalCode | 0987 |
CreatorTool | Ver.1.02 |
CreatorWorkEmail | t-erini@online.no |
CreatorWorkTelephone | 0047 91517816 |
CropAngle | 0 |
CropBottom | 0.819315 |
CropLeft | 0.211838 |
CropRight | 1 |
CropTop | 0.031153 |
CustomRendered | Normal |
DateTimeDigitized | 2010:03:04 14:00:02.48+01:00 |
DateTimeOriginal (1) | 2010:03:04 14:00:02.48+01:00 |
DateTimeOriginal | 2010:03:04 14:00:02 |
Defringe | 0 |
DigitalZoomRatio | 1 |
DOF | 0.17 m (8.33 - 8.50 m) |
ExifImageHeight | 707 |
ExifImageWidth | 1000 |
Exposure | 0.00 |
ExposureCompensation | +1/3 |
ExposureMode | Auto |
ExposureProgram | Aperture-priority AE |
ExposureTime | 1/250 |
FillLight | 0 |
Flash | No Flash |
FlashFired | False |
FlashFunction | False |
FlashMode | Unknown |
FlashRedEyeMode | False |
FlashReturn | No return detection |
FNumber | 4.8 |
FocalLength | 340.0 mm |
FocalLength35efl | 340.0 mm (35 mm equivalent: 340.0 mm) |
FocalLengthIn35mmFormat | 340 mm |
Format | image/jpeg |
FOV | 6.1 deg |
GainControl | None |
GreenHue | 0 |
GreenSaturation | 0 |
HasCrop | True |
HasSettings | True |
HierarchicalSubject | And, Fugl |
HighlightRecovery | 81 |
HueAdjustmentAqua | 0 |
HueAdjustmentBlue | 0 |
HueAdjustmentGreen | 0 |
HueAdjustmentMagenta | 0 |
HueAdjustmentOrange | 0 |
HueAdjustmentPurple | 0 |
HueAdjustmentRed | 0 |
HueAdjustmentYellow | 0 |
HyperfocalDistance | 801.54 m |
ICCProfileName | Adobe RGB (1998) |
ImageHeight | 707 |
ImageNumber | 4499 |
ImageSize | 1000x707 |
ImageWidth | 1000 |
ISO | 100 |
Keywords | And, Fugl |
Lens | 70.0-200.0 mm f/2.8 |
LensID (1) | 119 |
LensID | AF-S VR Zoom-Nikkor 70-200mm f/2.8G IF-ED |
LensInfo | 70-200mm f/2.8 |
LightSource | Fine Weather |
LightValue | 12.5 |
LuminanceAdjustmentAqua | 0 |
LuminanceAdjustmentBlue | 0 |
LuminanceAdjustmentGreen | 0 |
LuminanceAdjustmentMagenta | 0 |
LuminanceAdjustmentOrange | 0 |
LuminanceAdjustmentPurple | 0 |
LuminanceAdjustmentRed | 0 |
LuminanceAdjustmentYellow | 0 |
LuminanceSmoothing | 0 |
Make | NIKON CORPORATION |
Marked | True |
MaxApertureValue | 4.8 |
Megapixels | 0.707 |
MeteringMode | Multi-segment |
Model | NIKON D700 |
ModifyDate (1) | 2010:03:07 16:33:28+01:00 |
ModifyDate | 2010:03:07 16:33:28 |
Orientation | Horizontal (normal) |
ParametricDarks | 0 |
ParametricHighlights | 0 |
ParametricHighlightSplit | 75 |
ParametricLights | 0 |
ParametricMidtoneSplit | 50 |
ParametricShadows | 0 |
ParametricShadowSplit | 25 |
PostCropVignetteAmount | 0 |
ProfileDescription | Adobe RGB (1998) |
Rating | 0 |
RawFileName | ostensjø-4184.NEF |
RedHue | 0 |
RedSaturation | 0 |
Rights | Truls Erik Nilsen (C) 2008 |
Saturation (2) | 0 |
Saturation | Normal |
SaturationAdjustmentAqua | 0 |
SaturationAdjustmentBlue | 0 |
SaturationAdjustmentGreen | 0 |
SaturationAdjustmentMagenta | 0 |
SaturationAdjustmentOrange | 0 |
SaturationAdjustmentPurple | 0 |
SaturationAdjustmentRed | 0 |
SaturationAdjustmentYellow | 0 |
ScaleFactor35efl | 1.0 |
SceneCaptureType | Standard |
SceneType | Directly photographed |
SensingMethod | One-chip color area |
SerialNumber | 2115432 |
Shadows | 11 |
ShadowTint | 0 |
SharpenDetail | 25 |
SharpenEdgeMasking | 0 |
SharpenRadius | +1.0 |
Sharpness (2) | 73 |
Sharpness | Hard |
ShutterSpeed | 1/250 |
ShutterSpeedValue | 1/250 |
Software | Adobe Photoshop CS4 Windows |
SplitToningBalance | 0 |
SplitToningHighlightHue | 0 |
SplitToningHighlightSaturation | 0 |
SplitToningShadowHue | 0 |
SplitToningShadowSaturation | 0 |
Subject | And, Fugl |
SubjectDistance | 8.41 m |
SubjectDistanceRange | Unknown |
Tint | -6 |
ToneCurve | 0, 0, 32, 16, 64, 50, 128, 128, 192, 202, 255, 255 |
ToneCurveName | Strong Contrast |
URL_List | |
UsageTerms | No usage authorized with prior written permission |
Version | 5.6 |
Vibrance | +21 |
VignetteAmount | 0 |
WhiteBalance (2) | Custom |
WhiteBalance | Manual |