Felt | Verdi |
AlreadyApplied | True |
Aperture | 2.0 |
ApertureValue | 2.0 |
BitsPerSample | 8 |
BlueHue | 0 |
BlueSaturation | 0 |
Brightness | +57 |
CameraProfile | Adobe Standard |
CFAPattern | [Green,Blue][Red,Green] |
ChromaticAberrationB | 0 |
ChromaticAberrationR | 0 |
CircleOfConfusion | 0.020 mm |
Clarity | 0 |
ColorComponents | 3 |
ColorNoiseReduction | 40 |
ColorSpace | Uncalibrated |
ColorTemperature | 5929 |
Contrast (1) | +50 |
Contrast | Normal |
ConvertToGrayscale | False |
CopyrightFlag | False |
CreateDate (1) | 2010:05:22 22:34:30+01:00 |
CreateDate | 2010:05:21 19:45:51 |
CreatorTool | Adobe Photoshop CS Windows |
CustomRendered | Normal |
DateTimeDigitized | 2010:05:21 19:45:51+01:00 |
DateTimeOriginal (1) | 2010:05:21 19:45:51+01:00 |
DateTimeOriginal | 2010:05:21 19:45:51 |
Defringe | 0 |
DigitalZoomRatio | 1 |
DOF | 0.015 m (0.703 - 0.718 m) |
ExifImageHeight | 627 |
ExifImageWidth | 1000 |
Exposure | +1.43 |
ExposureCompensation | 0 |
ExposureMode | Manual |
ExposureProgram | Manual |
ExposureTime | 1/250 |
FillLight | 0 |
Flash | No Flash |
FlashFired | False |
FlashFunction | False |
FlashMode | Unknown |
FlashRedEyeMode | False |
FlashReturn | No return detection |
FNumber | 2.0 |
FocalLength | 50.0 mm |
FocalLength35efl | 50.0 mm (35 mm equivalent: 75.0 mm) |
FocalLengthIn35mmFormat | 75 mm |
Format | image/jpeg |
FOV | 27.0 deg |
GainControl | None |
GreenHue | 0 |
GreenSaturation | 0 |
HasCrop | False |
HasSettings | True |
HighlightRecovery | 0 |
HueAdjustmentAqua | 0 |
HueAdjustmentBlue | 0 |
HueAdjustmentGreen | -8 |
HueAdjustmentMagenta | 0 |
HueAdjustmentOrange | 0 |
HueAdjustmentPurple | 0 |
HueAdjustmentRed | 0 |
HueAdjustmentYellow | -3 |
HyperfocalDistance | 62.40 m |
ImageHeight (1) | 2848 |
ImageHeight | 627 |
ImageNumber | 3317 |
ImageSize | 1000x627 |
ImageWidth (1) | 4288 |
ImageWidth | 1000 |
ISO | 200 |
Lens | 50.0 mm f/1.4 |
LensID (1) | 67 |
LensID | AF Nikkor 50mm f/1.4D |
LensInfo | 50mm f/1.4 |
LightSource | Unknown |
LightValue | 9.0 |
LuminanceAdjustmentAqua | 0 |
LuminanceAdjustmentBlue | 0 |
LuminanceAdjustmentGreen | +7 |
LuminanceAdjustmentMagenta | +1 |
LuminanceAdjustmentOrange | 0 |
LuminanceAdjustmentPurple | 0 |
LuminanceAdjustmentRed | +12 |
LuminanceAdjustmentYellow | +2 |
LuminanceSmoothing | 44 |
Make | NIKON CORPORATION |
MaxApertureValue | 1.4 |
Megapixels | 0.627 |
MeteringMode | Spot |
Model | NIKON D90 |
ModifyDate (1) | 2010:05:22 22:34:30+01:00 |
ModifyDate | 2010:05:22 22:34:30 |
Orientation | Horizontal (normal) |
PaintCorrectionActive | true |
PaintCorrectionAmount | 1.000000 |
PaintCorrectionBrightness | 0.000000 |
PaintCorrectionClarity (1) | 0.000000 |
PaintCorrectionClarity | 0.625000 |
PaintCorrectionContrast (1) | 0.500000 |
PaintCorrectionContrast | 0.475000 |
PaintCorrectionExposure | 0.000000 |
PaintCorrectionHue | 51.000000 |
PaintCorrectionMaskCenterWeight | 0.000000 |
PaintCorrectionMaskFlow | 0.900000 |
PaintCorrectionMaskRadius | 0.010066 |
PaintCorrectionMaskValue | 0.700000 |
PaintCorrectionMaskWhat | Mask/Paint |
PaintCorrectionSaturation (1) | 0.650000 |
PaintCorrectionSaturation | 0.000000 |
PaintCorrectionSharpness | 0.000000 |
PaintCorrectionWhat | Correction |
ParametricDarks | 0 |
ParametricHighlights | 0 |
ParametricHighlightSplit | 75 |
ParametricLights | 0 |
ParametricMidtoneSplit | 50 |
ParametricShadows | 0 |
ParametricShadowSplit | 25 |
PostCropVignetteAmount | 0 |
ProfileDescription | Adobe RGB (1998) |
RedHue | 0 |
RedSaturation | 0 |
Saturation (1) | 0 |
Saturation | Normal |
SaturationAdjustmentAqua | 0 |
SaturationAdjustmentBlue | 0 |
SaturationAdjustmentGreen | +24 |
SaturationAdjustmentMagenta | -2 |
SaturationAdjustmentOrange | 0 |
SaturationAdjustmentPurple | 0 |
SaturationAdjustmentRed | -15 |
SaturationAdjustmentYellow | +7 |
ScaleFactor35efl | 1.5 |
SceneCaptureType | Standard |
SceneType | Directly photographed |
SensingMethod | One-chip color area |
SerialNumber | 6336187 |
Shadows | 5 |
ShadowTint | 0 |
SharpenDetail | 25 |
SharpenEdgeMasking | 0 |
SharpenRadius | +1.0 |
Sharpness (1) | 25 |
Sharpness | Normal |
ShutterSpeed | 1/250 |
ShutterSpeedValue | 1/250 |
Software | Adobe Photoshop CS Windows |
SplitToningBalance | 0 |
SplitToningHighlightHue | 0 |
SplitToningHighlightSaturation | 0 |
SplitToningShadowHue | 0 |
SplitToningShadowSaturation | 0 |
SubjectDistance | 0.71 m |
SubjectDistanceRange | Unknown |
Tint | -7 |
ToneCurve | 0, 0, 32, 22, 64, 56, 128, 128, 192, 196, 255, 255 |
ToneCurveName | Medium Contrast |
URL_List | |
Version | 5.7 |
Vibrance | +74 |
VignetteAmount | 0 |
WhiteBalance (1) | Custom |
WhiteBalance | Auto |