Felt | Verdi |
AlreadyApplied | True |
Aperture | 4.0 |
ApertureValue | 4.0 |
BitsPerSample | 8 |
BlueHue | 0 |
BlueSaturation | 0 |
Brightness | +50 |
CameraProfile | Adobe Standard |
CFAPattern | [Red,Green][Green,Blue] |
ChromaticAberrationB | -22 |
ChromaticAberrationR | -33 |
CircleOfConfusion | 0.020 mm |
Clarity | +9 |
ColorComponents | 3 |
ColorMode | RGB |
ColorNoiseReduction | 50 |
ColorNoiseReductionDetail | 50 |
ColorSpace | Uncalibrated |
ColorTemperature | 5550 |
Contrast (1) | +25 |
Contrast | Normal |
ConvertToGrayscale | False |
CreateDate (1) | 2010:06:02 00:27:12.00+02:00 |
CreateDate | 2010:06:02 00:27:12 |
CreatorTool | Ver.2.00 |
CropAngle | 2.146628 |
CropBottom | 1 |
CropLeft | 0.053421 |
CropRight | 0.976434 |
CropTop | 0 |
CustomRendered | Custom |
DateCreated (1) | 2010:06:02 |
DateCreated | 2010:06:02 00:27:12 |
DateTimeOriginal | 2010:06:02 00:27:12 |
Defringe | 0 |
DigitalZoomRatio | 1 |
DOF | 1.19 m (1.57 - 2.76 m) |
ExifImageHeight | 2698 |
ExifImageWidth | 4062 |
Exposure | 0.00 |
ExposureCompensation | 0 |
ExposureMode | Auto |
ExposureProgram | Aperture-priority AE |
ExposureTime | 30 |
FillLight | 0 |
Flash | No Flash |
FNumber | 4.0 |
FocalLength | 24.0 mm |
FocalLength35efl | 24.0 mm (35 mm equivalent: 36.0 mm) |
FocalLengthIn35mmFormat | 36 mm |
Format | image/jpeg |
FOV | 53.1 deg |
GainControl | None |
GrainAmount | 0 |
GreenHue | 0 |
GreenSaturation | 0 |
HasCrop | True |
HasSettings | True |
HighlightRecovery | 100 |
HueAdjustmentAqua | 0 |
HueAdjustmentBlue | 0 |
HueAdjustmentGreen | 0 |
HueAdjustmentMagenta | 0 |
HueAdjustmentOrange | 0 |
HueAdjustmentPurple | 0 |
HueAdjustmentRed | 0 |
HueAdjustmentYellow | 0 |
HyperfocalDistance | 7.19 m |
ICCProfileName | Adobe RGB (1998) |
ImageHeight | 2698 |
ImageNumber | 23238 |
ImageSize | 4062x2698 |
ImageWidth | 4062 |
ISO | 100 |
Lens | 24.0-70.0 mm f/2.8 |
LensID (1) | 38 |
LensID | Sigma 24-70mm F2.8 EX DG Macro |
LensInfo | 24-70mm f/2.8 |
LightSource | Unknown |
LightValue | -0.9 |
LuminanceAdjustmentAqua | 0 |
LuminanceAdjustmentBlue | 0 |
LuminanceAdjustmentGreen | 0 |
LuminanceAdjustmentMagenta | 0 |
LuminanceAdjustmentOrange | 0 |
LuminanceAdjustmentPurple | 0 |
LuminanceAdjustmentRed | 0 |
LuminanceAdjustmentYellow | 0 |
LuminanceNoiseReductionContrast | 0 |
LuminanceNoiseReductionDetail | 50 |
LuminanceSmoothing | 50 |
Make | NIKON CORPORATION |
MaxApertureValue | 2.8 |
Megapixels | 11.0 |
MeteringMode | Multi-segment |
Model | NIKON D2X |
ModifyDate (1) | 2010:06:02 01:51:51+02:00 |
ModifyDate | 2010:06:02 01:51:51 |
Orientation | Horizontal (normal) |
ParametricDarks | 0 |
ParametricHighlights | 0 |
ParametricHighlightSplit | 75 |
ParametricLights | 0 |
ParametricMidtoneSplit | 50 |
ParametricShadows | 0 |
ParametricShadowSplit | 25 |
PostCropVignetteAmount | 0 |
ProcessVersion | 5.7 |
ProfileDescription | Adobe RGB (1998) |
Rating | 0 |
RawFileName | _D2X0786.NEF |
RedHue | 0 |
RedSaturation | 0 |
Saturation (1) | 0 |
Saturation | Normal |
SaturationAdjustmentAqua | 0 |
SaturationAdjustmentBlue | 0 |
SaturationAdjustmentGreen | 0 |
SaturationAdjustmentMagenta | 0 |
SaturationAdjustmentOrange | 0 |
SaturationAdjustmentPurple | 0 |
SaturationAdjustmentRed | 0 |
SaturationAdjustmentYellow | 0 |
ScaleFactor35efl | 1.5 |
SceneCaptureType | Standard |
SceneType | Directly photographed |
SensingMethod | One-chip color area |
SerialNumber | 5030059 |
Shadows | 5 |
ShadowTint | 0 |
SharpenDetail | 30 |
SharpenEdgeMasking | 10 |
SharpenRadius | +1.5 |
Sharpness (1) | 69 |
Sharpness | Hard |
ShutterSpeed | 30 |
ShutterSpeedValue | 30 |
SidecarForExtension | NEF |
Software | Adobe Photoshop CS5 Windows |
SplitToningBalance | 0 |
SplitToningHighlightHue | 0 |
SplitToningHighlightSaturation | 0 |
SplitToningShadowHue | 0 |
SplitToningShadowSaturation | 0 |
SubjectDistance | 2 m |
SubjectDistanceRange | Unknown |
Tint | +3 |
ToneCurve | 0, 0, 32, 22, 64, 56, 128, 128, 192, 196, 255, 255 |
ToneCurveName | Medium Contrast |
URL_List | |
UserComment | Copyright (c) Endre W.Johannesen |
Version | 6.0 |
Vibrance | 0 |
VignetteAmount | 0 |
WhiteBalance (1) | As Shot |
WhiteBalance | Auto |