Felt | Verdi |
AlreadyApplied | True |
Aperture | 4.0 |
ApertureValue | 4.0 |
Artist | Lars K. Rones |
BitsPerSample | 8 |
BlueHue | 0 |
BlueSaturation | 0 |
Brightness | +74 |
By-line | Lars K. Rønes |
CameraProfile | Adobe Standard |
ChromaticAberrationB | 0 |
ChromaticAberrationR | 0 |
Clarity | +17 |
ColorComponents | 3 |
ColorNoiseReduction | 25 |
ColorNoiseReductionDetail | 50 |
ColorTemperature | 5700 |
Contrast | +25 |
ConvertToGrayscale | False |
CreateDate (1) | 2010:11:15 12:30:30+01:00 |
CreateDate | 2010:11:15 12:30:30 |
Creator | Lars K. Rønes |
CreatorTool | Adobe Photoshop Lightroom |
CropAngle | 0 |
CropBottom | 0.915152 |
CropConstrainToWarp | 0 |
CropHeight | 800 |
CropLeft | 0 |
CropRight | 0.915152 |
CropTop | 0 |
CropUnit | pixels |
CropWidth | 1200 |
DateTimeDigitized | 2010:11:15 12:30:30+01:00 |
DateTimeOriginal (1) | 2010:11:15 12:30:30+01:00 |
DateTimeOriginal | 2010:11:15 12:30:30 |
Defringe | 0 |
ExifImageHeight | 1200 |
ExifImageWidth | 800 |
Exposure | 0.00 |
ExposureCompensation | 0 |
ExposureProgram | Manual |
ExposureTime | 1/800 |
FillLight | 11 |
Firmware | 1.1.1 |
Flash | No Flash |
FlashFired | False |
FNumber | 4.0 |
FocalLength | 75.0 mm |
FocalLength35efl | 75.0 mm |
GrainAmount | 0 |
GreenHue | 0 |
GreenSaturation | 0 |
HasCrop | True |
HasSettings | True |
HighlightRecovery | 0 |
HueAdjustmentAqua | 0 |
HueAdjustmentBlue | +23 |
HueAdjustmentGreen | 0 |
HueAdjustmentMagenta | 0 |
HueAdjustmentOrange | 0 |
HueAdjustmentPurple | 0 |
HueAdjustmentRed | 0 |
HueAdjustmentYellow | 0 |
ImageHeight | 1200 |
ImageSize | 800x1200 |
ImageWidth | 800 |
ISO | 100 |
Lens | 75.0-300.0 mm |
LensInfo | 75-300mm f/? |
LensManualDistortionAmount | 0 |
LensProfileEnable | 0 |
LensProfileSetup | LensDefaults |
LightValue | 13.6 |
LuminanceAdjustmentAqua | 0 |
LuminanceAdjustmentBlue | +9 |
LuminanceAdjustmentGreen | 0 |
LuminanceAdjustmentMagenta | 0 |
LuminanceAdjustmentOrange | 0 |
LuminanceAdjustmentPurple | 0 |
LuminanceAdjustmentRed | 0 |
LuminanceAdjustmentYellow | 0 |
LuminanceSmoothing | 0 |
Make | Canon |
MaxApertureValue | 4.0 |
Megapixels | 0.960 |
MeteringMode | Center-weighted average |
Model | Canon EOS 300D DIGITAL |
ModifyDate (1) | 2010:12:06 22:11:53+01:00 |
ModifyDate | 2010:12:06 22:11:53 |
OwnerName | Lars K. Rønes |
ParametricDarks | 0 |
ParametricHighlights | +1 |
ParametricHighlightSplit | 75 |
ParametricLights | +41 |
ParametricMidtoneSplit | 50 |
ParametricShadows | -31 |
ParametricShadowSplit | 25 |
PerspectiveHorizontal | 0 |
PerspectiveRotate | 0.0 |
PerspectiveScale | 100 |
PerspectiveVertical | 0 |
PostCropVignetteAmount | -1 |
PostCropVignetteFeather | 50 |
PostCropVignetteHighlightContrast | 0 |
PostCropVignetteMidpoint | 50 |
PostCropVignetteRoundness | 0 |
PostCropVignetteStyle | 1 |
ProcessVersion | 5.7 |
ProfileDescription | sRGB IEC61966-2.1 |
RedHue | 0 |
RedSaturation | 0 |
Saturation | +36 |
SaturationAdjustmentAqua | 0 |
SaturationAdjustmentBlue | 0 |
SaturationAdjustmentGreen | 0 |
SaturationAdjustmentMagenta | 0 |
SaturationAdjustmentOrange | 0 |
SaturationAdjustmentPurple | 0 |
SaturationAdjustmentRed | 0 |
SaturationAdjustmentYellow | 0 |
SerialNumber | 1370438862 |
Shadows | 20 |
ShadowTint | 0 |
SharpenDetail | 25 |
SharpenEdgeMasking | 0 |
SharpenRadius | +1.0 |
Sharpness | 52 |
ShutterSpeed | 1/800 |
ShutterSpeedValue | 1/800 |
SplitToningBalance | 0 |
SplitToningHighlightHue | 232 |
SplitToningHighlightSaturation | 0 |
SplitToningShadowHue | 0 |
SplitToningShadowSaturation | 0 |
Tint | +9 |
ToneCurve | 0, 0, 32, 22, 64, 56, 128, 128, 192, 196, 255, 255 |
ToneCurveName | Medium Contrast |
Version | 6.1 |
Vibrance | +29 |
VignetteAmount | 0 |
WhiteBalance | As Shot |