Felt | Verdi |
AlreadyApplied | True |
Aperture | 5.6 |
ApertureValue | 5.6 |
Artist | Robert Fredagsvik |
BitsPerSample | 8 |
BlueHue | 0 |
BlueSaturation | 0 |
Brightness | +15 |
By-line | Robert Fredagsvik |
CameraProfile | Adobe Standard |
ChromaticAberrationB | -10 |
ChromaticAberrationR | 0 |
CircleOfConfusion | 0.027 mm |
Clarity | 0 |
ColorComponents | 3 |
ColorMode | RGB |
ColorNoiseReduction | 25 |
ColorSpace | sRGB |
ColorTemperature | 5100 |
Contrast | +40 |
ConvertToGrayscale | False |
Copyright | Robert Fredagsvik |
CopyrightNotice | Robert Fredagsvik |
CreateDate (1) | 2011:06:25 19:20:43.00+02:00 |
CreateDate | 2011:06:25 19:20:43 |
Creator | Robert Fredagsvik, Robert Fredagsvik |
CropAngle | 0 |
CropBottom | 0.909285 |
CropHeight | 3 |
CropLeft | 0.014941 |
CropRight | 0.883671 |
CropTop | 0.040555 |
CropUnit | Unknown (3) |
CropWidth | 2 |
CustomRendered | Normal |
DateTimeDigitized | 2011:06:25 19:20:43.00+02:00 |
DateTimeOriginal (1) | 2011:06:25 19:20:43.00+02:00 |
DateTimeOriginal | 2011:06:25 19:20:43 |
Defringe | 1 |
DOF | 0.19 m (7.56 - 7.75 m) |
ExifImageHeight | 854 |
ExifImageWidth | 1280 |
Exposure | +0.35 |
ExposureCompensation | 0 |
ExposureMode | Auto |
ExposureProgram | Aperture-priority AE |
ExposureTime | 1/1600 |
FillLight | 0 |
Firmware | 1.0.8 |
Flash | No Flash |
FlashCompensation | 0 |
FlashFired | False |
FlashFunction | False |
FlashMode | Unknown |
FlashRedEyeMode | False |
FlashReturn | No return detection |
FNumber | 5.6 |
FocalLength | 300.0 mm |
FocalLength35efl | 300.0 mm (35 mm equivalent: 332.4 mm) |
Format | image/jpeg |
FOV | 6.2 deg |
GreenHue | 0 |
GreenSaturation | 0 |
HasCrop | True |
HasSettings | True |
HighlightRecovery | 5 |
HueAdjustmentAqua | 0 |
HueAdjustmentBlue | 0 |
HueAdjustmentGreen | 0 |
HueAdjustmentMagenta | 0 |
HueAdjustmentOrange | 0 |
HueAdjustmentPurple | 0 |
HueAdjustmentRed | 0 |
HueAdjustmentYellow | 0 |
HyperfocalDistance | 592.72 m |
ICCProfileName | sRGB IEC61966-2.1 |
ImageHeight | 854 |
ImageNumber | 0 |
ImageSize | 1280x854 |
ImageWidth | 1280 |
ISO | 800 |
Lens | EF300mm f/4L IS USM |
LensID (1) | 177 |
LensID | Canon EF 300mm f/4L IS USM |
LensInfo | 300mm f/? |
LightValue | 12.6 |
LuminanceAdjustmentAqua | 0 |
LuminanceAdjustmentBlue | 0 |
LuminanceAdjustmentGreen | 0 |
LuminanceAdjustmentMagenta | 0 |
LuminanceAdjustmentOrange | 0 |
LuminanceAdjustmentPurple | 0 |
LuminanceAdjustmentRed | 0 |
LuminanceAdjustmentYellow | 0 |
LuminanceSmoothing | 0 |
Make | Canon |
MaxApertureValue | 4.0 |
Megapixels | 1.1 |
MeteringMode | Spot |
Model | Canon EOS-1D Mark IV |
ModifyDate (1) | 2011:06:29 22:57:27+02:00 |
ModifyDate | 2011:06:29 22:57:27 |
Orientation | Horizontal (normal) |
ParametricDarks | 0 |
ParametricHighlights | 0 |
ParametricHighlightSplit | 75 |
ParametricLights | 0 |
ParametricMidtoneSplit | 50 |
ParametricShadows | 0 |
ParametricShadowSplit | 25 |
PostCropVignetteAmount | 0 |
ProfileDescription | sRGB IEC61966-2.1 |
Rating | 5 |
RawFileName | 11.06.25-Storjo-Runde136.cr2 |
RedHue | 0 |
RedSaturation | 0 |
Rights | Robert Fredagsvik |
Saturation | +10 |
SaturationAdjustmentAqua | 0 |
SaturationAdjustmentBlue | 0 |
SaturationAdjustmentGreen | 0 |
SaturationAdjustmentMagenta | 0 |
SaturationAdjustmentOrange | 0 |
SaturationAdjustmentPurple | 0 |
SaturationAdjustmentRed | 0 |
SaturationAdjustmentYellow | 0 |
ScaleFactor35efl | 1.1 |
SceneCaptureType | Standard |
SerialNumber | 430300244 |
Shadows | 10 |
ShadowTint | 0 |
SharpenDetail | 25 |
SharpenEdgeMasking | 0 |
SharpenRadius | +1.0 |
Sharpness | 50 |
ShutterSpeed | 1/1600 |
ShutterSpeedValue | 1/1600 |
Software | Adobe Photoshop CS4 Windows |
SplitToningBalance | 0 |
SplitToningHighlightHue | 0 |
SplitToningHighlightSaturation | 0 |
SplitToningShadowHue | 0 |
SplitToningShadowSaturation | 0 |
SubjectDistance | 7.65 m |
Tint | +21 |
ToneCurve | 0, 0, 32, 22, 64, 56, 128, 128, 192, 196, 255, 255 |
ToneCurveName | Medium Contrast |
URL_List | |
Version | 5.6 |
Vibrance | +10 |
VignetteAmount | 0 |
WhiteBalance (2) | Custom |
WhiteBalance | Auto |