Felt | Verdi |
AlreadyApplied | True |
Aperture | 2.8 |
ApertureValue | 2.8 |
BitsPerSample | 8 |
BlueHue | 0 |
BlueSaturation | 0 |
Brightness | +50 |
By-line | Ole T. J. Skogdal |
CameraProfile | Adobe Standard |
ChromaticAberrationB | 0 |
ChromaticAberrationR | 0 |
CircleOfConfusion | 0.019 mm |
Clarity | 0 |
ColorComponents | 3 |
ColorNoiseReduction | 25 |
ColorSpace | Uncalibrated |
ColorTemperature | 4950 |
Contrast | High |
ConvertToGrayscale | False |
Copyright | Foto: Ole T. J. Skogdal |
CopyrightFlag | True |
CopyrightNotice | Foto: Ole T. J. Skogdal |
CreateDate (1) | 2011:07:11 20:21:33.03+02:00 |
CreateDate | 2011:07:11 20:21:33 |
Creator | Ole T. J. Skogdal |
CreatorAddress | Ringvegen 450 |
CreatorCity | Trosmø |
CreatorCountry | Norway |
CreatorPostalCode | 9017 |
CreatorRegion | Troms |
CreatorTool | Adobe Photoshop Lightroom |
CreatorWorkEmail | oljosko@online.no |
CreatorWorkTelephone | +47 92265599 |
CustomRendered | Normal |
DateTimeDigitized | 2011:07:11 20:21:33.03+02:00 |
DateTimeOriginal (1) | 2011:07:11 20:21:33.03+02:00 |
DateTimeOriginal | 2011:07:11 20:21:33 |
Defringe | 0 |
DOF | 0.011 m (1.734 - 1.746 m) |
ExifImageHeight | 4272 |
ExifImageWidth | 2848 |
Exposure | 0.00 |
ExposureCompensation | 0 |
ExposureMode | Manual |
ExposureProgram | Manual |
ExposureTime | 1/500 |
FillLight | 0 |
Firmware | 1.1.0 |
Flash | Off, Did not fire |
FlashCompensation | 0 |
FlashFired | False |
FlashFunction | False |
FlashMode | Off |
FlashRedEyeMode | False |
FlashReturn | No return detection |
FNumber | 2.8 |
FocalLength | 160.0 mm |
FocalLength35efl | 160.0 mm (35 mm equivalent: 258.7 mm) |
FOV | 8.0 deg |
GreenHue | 0 |
GreenSaturation | 0 |
HasCrop | False |
HasSettings | True |
HighlightRecovery | 0 |
HueAdjustmentAqua | 0 |
HueAdjustmentBlue | 0 |
HueAdjustmentGreen | 0 |
HueAdjustmentMagenta | 0 |
HueAdjustmentOrange | 0 |
HueAdjustmentPurple | 0 |
HueAdjustmentRed | 0 |
HueAdjustmentYellow | 0 |
HyperfocalDistance | 491.98 m |
ImageHeight (1) | 4272 |
ImageHeight | 4772 |
ImageNumber | 0 |
ImageSize | 3348x4772 |
ImageWidth (1) | 2848 |
ImageWidth | 3348 |
ISO | 800 |
Lens | EF70-200mm f/2.8L USM |
LensID (1) | 165 |
LensID | Canon EF 70-200mm f/2.8L USM |
LensInfo | 70-200mm f/? |
LightValue | 8.9 |
LuminanceAdjustmentAqua | 0 |
LuminanceAdjustmentBlue | 0 |
LuminanceAdjustmentGreen | 0 |
LuminanceAdjustmentMagenta | 0 |
LuminanceAdjustmentOrange | 0 |
LuminanceAdjustmentPurple | 0 |
LuminanceAdjustmentRed | 0 |
LuminanceAdjustmentYellow | 0 |
LuminanceSmoothing | 50 |
Make | Canon |
Marked | True |
MaxApertureValue | 2.8 |
Megapixels | 16.0 |
MeteringMode | Center-weighted average |
Model | Canon EOS 450D |
ModifyDate (1) | 2011:09:11 12:38:57+02:00 |
ModifyDate | 2011:09:11 12:38:57 |
ParametricDarks | -45 |
ParametricHighlights | 0 |
ParametricHighlightSplit | 90 |
ParametricLights | +20 |
ParametricMidtoneSplit | 50 |
ParametricShadows | 0 |
ParametricShadowSplit | 10 |
PostCropVignetteAmount | 0 |
ProfileDescription | sRGB IEC61966-2.1 |
RedHue | 0 |
RedSaturation | 0 |
Rights | Foto: Ole T. J. Skogdal |
Saturation | Normal |
SaturationAdjustmentAqua | 0 |
SaturationAdjustmentBlue | 0 |
SaturationAdjustmentGreen | 0 |
SaturationAdjustmentMagenta | 0 |
SaturationAdjustmentOrange | 0 |
SaturationAdjustmentPurple | 0 |
SaturationAdjustmentRed | 0 |
SaturationAdjustmentYellow | 0 |
ScaleFactor35efl | 1.6 |
SceneCaptureType | Standard |
SerialNumber | 1880557473 |
Shadows | 0 |
ShadowTint | 0 |
SharpenDetail | 55 |
SharpenEdgeMasking | 0 |
SharpenRadius | +3.0 |
Sharpness | Hard |
ShutterSpeed | 1/500 |
ShutterSpeedValue | 1/500 |
SplitToningBalance | 0 |
SplitToningHighlightHue | 0 |
SplitToningHighlightSaturation | 0 |
SplitToningShadowHue | 0 |
SplitToningShadowSaturation | 0 |
SubjectDistance | 1.74 m |
Tint | +4 |
ToneCurve | 0, 0, 32, 22, 64, 56, 128, 128, 192, 196, 255, 255 |
ToneCurveName | Medium Contrast |
URL | http://www.lovdata.no/all/nl-19610512-002.html |
UsageTerms | Etter avtale |
Version | 5.7 |
Vibrance | 0 |
VignetteAmount | 0 |
WebStatement | http://www.lovdata.no/all/nl-19610512-002.html |
WhiteBalance | Manual |