Felt | Verdi |
AlreadyApplied | True |
AutoLateralCA | 0 |
BitsPerSample | 8 |
Blacks2012 | -4 |
BlueHue | 0 |
BlueSaturation | 0 |
Brightness | +50 |
CameraProfile | Adobe Standard |
CFAPattern | [Green,Blue][Red,Green] |
Clarity | 0 |
Clarity2012 | +18 |
ColorComponents | 3 |
ColorMode | RGB |
ColorNoiseReduction | 25 |
ColorNoiseReductionDetail | 50 |
ColorSpace | Uncalibrated |
ColorTemperature | 5200 |
Contrast (1) | +25 |
Contrast | Normal |
Contrast2012 | +30 |
ConvertToGrayscale | False |
CreateDate | 2012:10:13 11:01:52 |
CreatorTool | Ver.1.00 |
CustomRendered | Normal |
DateCreated (1) | 2012:10:13 |
DateCreated | 2012:10:13 11:01:52 |
DateTimeOriginal | 2012:10:13 11:01:52 |
Defringe | 0 |
DigitalZoomRatio | 1 |
ExifImageHeight | 2238 |
ExifImageWidth | 2238 |
Exposure | 0.00 |
Exposure2012 | -0.15 |
ExposureCompensation | 0 |
ExposureMode | Manual |
ExposureProgram | Manual |
ExposureTime | 1/200 |
FillLight | 0 |
Flash | On, Return not detected |
Format | image/jpeg |
GainControl | None |
GrainAmount | 0 |
GreenHue | 0 |
GreenSaturation | 0 |
HasCrop | False |
HasSettings | True |
HighlightRecovery | 0 |
Highlights2012 | -7 |
HueAdjustmentAqua | 0 |
HueAdjustmentBlue | 0 |
HueAdjustmentGreen | 0 |
HueAdjustmentMagenta | 0 |
HueAdjustmentOrange | 0 |
HueAdjustmentPurple | 0 |
HueAdjustmentRed | 0 |
HueAdjustmentYellow | 0 |
ICCProfileName | Adobe RGB (1998) |
ImageHeight | 2238 |
ImageNumber | 30803 |
ImageSize | 2238x2238 |
ImageWidth | 2238 |
ISO | 200 |
Lens | 0.0 mm f/0.0 |
LensInfo | 0mm f/0 |
LensManualDistortionAmount | 0 |
LensModel | 0.0 mm f/0.0 |
LensProfileEnable | 0 |
LensProfileSetup | LensDefaults |
LightSource | Unknown |
LuminanceAdjustmentAqua | 0 |
LuminanceAdjustmentBlue | 0 |
LuminanceAdjustmentGreen | 0 |
LuminanceAdjustmentMagenta | 0 |
LuminanceAdjustmentOrange | 0 |
LuminanceAdjustmentPurple | 0 |
LuminanceAdjustmentRed | 0 |
LuminanceAdjustmentYellow | 0 |
LuminanceSmoothing | 0 |
Make | NIKON CORPORATION |
MaxApertureValue | 1.0 |
Megapixels | 5.0 |
MeteringMode | Center-weighted average |
Model | NIKON D90 |
ModifyDate (1) | 2012:10:14 15:23:03+02:00 |
ModifyDate | 2012:10:14 15:23:03 |
Orientation | Horizontal (normal) |
ParametricDarks | 0 |
ParametricHighlights | 0 |
ParametricHighlightSplit | 75 |
ParametricLights | 0 |
ParametricMidtoneSplit | 50 |
ParametricShadows | 0 |
ParametricShadowSplit | 25 |
PerspectiveHorizontal | 0 |
PerspectiveRotate | 0.0 |
PerspectiveScale | 100 |
PerspectiveVertical | 0 |
PostCropVignetteAmount | 0 |
ProcessVersion | 6.7 |
ProfileDescription | Adobe RGB (1998) |
Rating | 0 |
RawFileName | _DSC0016.NEF |
RedHue | 0 |
RedSaturation | 0 |
Saturation (1) | +5 |
Saturation | Normal |
SaturationAdjustmentAqua | 0 |
SaturationAdjustmentBlue | 0 |
SaturationAdjustmentGreen | 0 |
SaturationAdjustmentMagenta | 0 |
SaturationAdjustmentOrange | 0 |
SaturationAdjustmentPurple | 0 |
SaturationAdjustmentRed | 0 |
SaturationAdjustmentYellow | 0 |
SceneCaptureType | Portrait |
SceneType | Directly photographed |
SensingMethod | One-chip color area |
SerialNumber | 8154439 |
Shadows | 5 |
Shadows2012 | +5 |
ShadowTint | 0 |
SharpenDetail | 25 |
SharpenEdgeMasking | 0 |
SharpenRadius | +1.0 |
Sharpness (1) | 25 |
Sharpness | Normal |
ShutterSpeed | 1/200 |
ShutterSpeedValue | 1/200 |
Software | Adobe Photoshop CS6 (Macintosh) |
SplitToningBalance | 0 |
SplitToningHighlightHue | 0 |
SplitToningHighlightSaturation | 0 |
SplitToningShadowHue | 0 |
SplitToningShadowSaturation | 0 |
SubjectDistanceRange | Unknown |
Tint | -8 |
ToneCurve | 0, 0, 32, 22, 64, 56, 128, 128, 192, 196, 255, 255 |
ToneCurveBlue | 0, 0, 255, 255 |
ToneCurveGreen | 0, 0, 255, 255 |
ToneCurveName | Medium Contrast |
ToneCurveName2012 | Linear |
ToneCurvePV2012 | 0, 0, 255, 255 |
ToneCurvePV2012Blue | 0, 0, 255, 255 |
ToneCurvePV2012Green | 0, 0, 255, 255 |
ToneCurvePV2012Red | 0, 0, 255, 255 |
ToneCurveRed | 0, 0, 255, 255 |
URL_List | |
Version | 7.0 |
Vibrance | +9 |
VignetteAmount | 0 |
WhiteBalance (1) | As Shot |
WhiteBalance | Auto |
Whites2012 | +9 |