Felt | Verdi |
AlreadyApplied | True |
Aperture | 8.0 |
ApertureValue | 8.0 |
BitsPerSample | 8 |
BlueHue | 0 |
BlueSaturation | 0 |
Brightness | 0 |
CameraProfile | Embedded |
ChromaticAberrationB | 0 |
ChromaticAberrationR | 0 |
CircleOfConfusion | 0.019 mm |
Clarity | +100 |
ColorComponents | 3 |
ColorNoiseReduction | 0 |
Contrast | +100 |
ConvertToGrayscale | False |
CreateDate (1) | 2008:10:31 13:01:52Z |
CreateDate | 2008:10:31 13:01:52 |
CreatorTool | Adobe Photoshop Lightroom |
CustomRendered | Normal |
DateTimeDigitized | 2008:10:31 13:01:52Z |
DateTimeOriginal (1) | 2008:10:31 13:01:52Z |
DateTimeOriginal | 2008:10:31 13:01:52 |
Defringe | 0 |
DOF | inf (2.16 m - inf) |
ExifImageHeight | 3456 |
ExifImageWidth | 2304 |
Exposure | 0.00 |
ExposureCompensation | 0 |
ExposureMode | Auto |
ExposureProgram | Action (High speed) |
ExposureTime | 1/800 |
FillLight | 13 |
Firmware | Torbj¯rn Martinussen |
Flash | Off, Did not fire |
FlashCompensation | 0 |
FlashFired | False |
FlashFunction | False |
FlashMode | Off |
FlashRedEyeMode | False |
FlashReturn | No return detection |
FNumber | 8.0 |
FocalLength | 18.0 mm |
FocalLength35efl | 18.0 mm (35 mm equivalent: 29.2 mm) |
FOV | 63.3 deg |
GrainAmount | 0 |
GreenHue | 0 |
GreenSaturation | 0 |
HasCrop | False |
HasSettings | True |
HighlightRecovery | 22 |
HueAdjustmentAqua | 0 |
HueAdjustmentBlue | 0 |
HueAdjustmentGreen | 0 |
HueAdjustmentMagenta | 0 |
HueAdjustmentOrange | 0 |
HueAdjustmentPurple | 0 |
HueAdjustmentRed | 0 |
HueAdjustmentYellow | 0 |
HyperfocalDistance | 2.19 m |
ImageHeight | 3456 |
ImageNumber | 0 |
ImageSize | 2304x3456 |
ImageWidth | 2304 |
IncrementalTemperature | -48 |
IncrementalTint | -5 |
ISO | 400 |
LensManualDistortionAmount | 0 |
LensProfileEnable | 0 |
LensProfileSetup | LensDefaults |
LightValue | 13.6 |
LuminanceAdjustmentAqua | 0 |
LuminanceAdjustmentBlue | 0 |
LuminanceAdjustmentGreen | 0 |
LuminanceAdjustmentMagenta | 0 |
LuminanceAdjustmentOrange | 0 |
LuminanceAdjustmentPurple | 0 |
LuminanceAdjustmentRed | 0 |
LuminanceAdjustmentYellow | 0 |
LuminanceNoiseReductionContrast | 0 |
LuminanceNoiseReductionDetail | 50 |
LuminanceSmoothing | 50 |
Make | Canon |
MaxApertureValue | 1.0 |
Megapixels | 8.0 |
MeteringMode | Multi-segment |
Model | Canon EOS 350D DIGITAL |
ModifyDate (1) | 2011:12:13 15:46:33Z |
ModifyDate | 2011:12:13 15:46:33 |
ParametricDarks | -1 |
ParametricHighlights | -1 |
ParametricHighlightSplit | 82 |
ParametricLights | -1 |
ParametricMidtoneSplit | 46 |
ParametricShadows | +1 |
ParametricShadowSplit | 25 |
PerspectiveHorizontal | 0 |
PerspectiveRotate | 0.0 |
PerspectiveScale | 100 |
PerspectiveVertical | 0 |
PostCropVignetteAmount | -20 |
PostCropVignetteFeather | 90 |
PostCropVignetteHighlightContrast | 0 |
PostCropVignetteMidpoint | 64 |
PostCropVignetteRoundness | -16 |
PostCropVignetteStyle | 1 |
ProcessVersion | 5.7 |
ProfileDescription | sRGB IEC61966-2.1 |
RedHue | 0 |
RedSaturation | 0 |
Saturation | -93 |
SaturationAdjustmentAqua | 0 |
SaturationAdjustmentBlue | 0 |
SaturationAdjustmentGreen | 0 |
SaturationAdjustmentMagenta | 0 |
SaturationAdjustmentOrange | 0 |
SaturationAdjustmentPurple | 0 |
SaturationAdjustmentRed | 0 |
SaturationAdjustmentYellow | 0 |
ScaleFactor35efl | 1.6 |
SceneCaptureType | Standard |
SerialNumber | 330136289 |
Shadows | 9 |
ShadowTint | 0 |
SharpenDetail | 25 |
SharpenEdgeMasking | 100 |
SharpenRadius | +1.0 |
Sharpness | 24 |
ShutterSpeed | 1/800 |
ShutterSpeedValue | 1/800 |
SplitToningBalance | 0 |
SplitToningHighlightHue | 0 |
SplitToningHighlightSaturation | 0 |
SplitToningShadowHue | 0 |
SplitToningShadowSaturation | 0 |
SubjectDistance | 181 m |
ToneCurve | 0, 0, 255, 255 |
ToneCurveName | Linear |
Version | 6.1 |
Vibrance | +41 |
VignetteAmount | 0 |
WhiteBalance (2) | Custom |
WhiteBalance | Auto |